Workbook

Sheet 통합 재고현황
A1: 소자 통합 재고 현황
A3: 등록 품목 수 | B3: 총 재고 수량 | C3: 부족/발주 품목
A4: =COUNTA(B7:B206) -> 49 | B4: =SUM(L7:L206) -> 15878 | C4: =COUNTIF(N7:N206,"부족")+COUNTIF(N7:N206,"발주필요") -> 0
A6: No. | B6: 품번(Part No.) | C6: 제조사 | D6: 소자 구분 | E6: 채널 수 | F6: 최대 데이터레이트 (Gbps/ch) | G6: 패키지 형태 | H6: 패키지/Die 크기 | I6: Lot / Date Code | J6: 입고일 | K6: 보관 위치 | L6: 현재 재고 | M6: 최소 재고 | N6: 재고 상태 | O6: 사용 목적 | P6: 적용 프로젝트/제품 | Q6: 데이터시트/URL | R6: DVT Report | S6: 비고
A7: =ROW()-6 -> 1 | B7: 25G VCSEL (top p&N) | C7: Optowell | D7: VCSEL / LD | E7: 1 | F7: 25 Gbps/ch | G7: Bare Die | I7: VC1507-058 | K7: OLD OE #2 | L7: 10 | M7: =IF(L7="","",IF(L7<=10,0,IF(L7<=50,3,IF(L7<=100,10,IF(L7<=1000,20,100))))) -> 0 | N7: =IF(B7="","",IF(L7<=0,"발주필요",IF(L7<M7,"부족","정상"))) -> 정상 | O7: 연구개발 | Q7: - | S7: 25Gbps 850nm VCSEL
A8: =ROW()-6 -> 2 | B8: 25G VCSEL (top p&N) | C8: Optowell | D8: VCSEL / LD | E8: 1 | F8: 25 Gbps/ch | G8: Bare Die | I8: VC1507-053 | K8: OLD OE #2 | L8: 10 | M8: =IF(L8="","",IF(L8<=10,0,IF(L8<=50,3,IF(L8<=100,10,IF(L8<=1000,20,100))))) -> 0 | N8: =IF(B8="","",IF(L8<=0,"발주필요",IF(L8<M8,"부족","정상"))) -> 정상 | O8: 연구개발 | Q8: - | S8: 25Gbps 850nm VCSEL
A9: =ROW()-6 -> 3 | B9: 25G VCSEL (top p&N) | C9: Optowell | D9: VCSEL / LD | E9: 1 | F9: 25 Gbps/ch | G9: Bare Die | I9: VC1507-059 | K9: OLD OE #2 | L9: 10 | M9: =IF(L9="","",IF(L9<=10,0,IF(L9<=50,3,IF(L9<=100,10,IF(L9<=1000,20,100))))) -> 0 | N9: =IF(B9="","",IF(L9<=0,"발주필요",IF(L9<M9,"부족","정상"))) -> 정상 | O9: 연구개발 | Q9: - | S9: 25Gbps 850nm VCSEL
A10: =ROW()-6 -> 4 | B10: AM85-1AH104W | C10: Optowell | D10: VCSEL / LD | E10: 4 | F10: 14 Gbps/ch | G10: Array chip | H10: 980umx230umx150um | I10: VC2408-113-D0332#5Q1 | J10: 45554 | K10: 4CH Array | L10: 120 | M10: =IF(L10="","",IF(L10<=10,0,IF(L10<=50,3,IF(L10<=100,10,IF(L10<=1000,20,100))))) -> 20 | N10: =IF(B10="","",IF(L10<=0,"발주필요",IF(L10<M10,"부족","정상"))) -> 정상 | O10: 연구개발 | S10: 14 Gbps 850nm 1x4 VCSEL Array chip
A11: =ROW()-6 -> 5 | B11: AM85-1UH104W | C11: Optowell | D11: VCSEL / LD | E11: 4 | F11: 25 Gbps/ch | G11: Array chip | H11: 980umx230umx150um | I11: VC2211-147-OI002#5Q1 | J11: 45527 | K11: 4CH Array | L11: 125 | M11: =IF(L11="","",IF(L11<=10,0,IF(L11<=50,3,IF(L11<=100,10,IF(L11<=1000,20,100))))) -> 20 | N11: =IF(B11="","",IF(L11<=0,"발주필요",IF(L11<M11,"부족","정상"))) -> 정상 | O11: 연구개발 | Q11: NAS:/[] 연구소/1. 개발/소자_재고관리대장/OE/SPEC_AM85-1UH104W_Rev_1.0_23.01.10.pdf | S11: 25 Gbps 850nm 1x4 VCSEL Array chip
A12: =ROW()-6 -> 6 | B12: AP85-1AH104 | C12: Optowell | D12: PIN PD | E12: 4 | F12: 14 Gbps/ch | G12: Array chip | H12: 980umx230umx150um | I12: PC2210-149-C0788#1Q3 | J12: 45554 | K12: 4CH Array | L12: 120 | M12: =IF(L12="","",IF(L12<=10,0,IF(L12<=50,3,IF(L12<=100,10,IF(L12<=1000,20,100))))) -> 20 | N12: =IF(B12="","",IF(L12<=0,"발주필요",IF(L12<M12,"부족","정상"))) -> 정상 | O12: 연구개발 | Q12: NAS:/[] 연구소/1. 개발/소자_재고관리대장/OE/AM85-1AH104_Rev2.0.pdf | S12: 14 Gbps GaAs 1x4 PIN-PD Array chip
A13: =ROW()-6 -> 7 | B13: AP85-1UH104 | C13: Optowell | D13: PIN PD | E13: 4 | F13: 25 Gbps/ch | G13: Array chip | H13: 980umx230umx150um | I13: PC2212-157-C0816#3Q4 | J13: 45527 | K13: 4CH Array | L13: 130 | M13: =IF(L13="","",IF(L13<=10,0,IF(L13<=50,3,IF(L13<=100,10,IF(L13<=1000,20,100))))) -> 20 | N13: =IF(B13="","",IF(L13<=0,"발주필요",IF(L13<M13,"부족","정상"))) -> 정상 | O13: 연구개발 | Q13: NAS:/[] 연구소/1. 개발/소자_재고관리대장/OE/AP85-1AH104_Rev-1.0.pdf | S13: 25 Gbps GaAs 1x4 PIN-PD Array chip
A14: =ROW()-6 -> 8 | B14: AP85-2M104 | C14: Optowell | D14: PIN PD | E14: 4 | F14: 2.5 Gbps/ch | G14: Array chip | H14: 1015umx397umx200um | I14: PC1110-706-B1668#2Q1 | K14: OLD OE #2 | L14: 100 | M14: =IF(L14="","",IF(L14<=10,0,IF(L14<=50,3,IF(L14<=100,10,IF(L14<=1000,20,100))))) -> 10 | N14: =IF(B14="","",IF(L14<=0,"발주필요",IF(L14<M14,"부족","정상"))) -> 정상 | O14: 연구개발 | Q14: NAS:/[] 연구소/1. 개발/소자_재고관리대장/OE/AP85-2M104_2M112_Rev1.1.pdf | S14: 2.5Gbps 850nm GaAs PIN-PD
A15: =ROW()-6 -> 9 | B15: G6854-3964 | C15: HAMAMATSU | D15: PIN PD | E15: 1 | G15: Bare Die | H15: 400umx400umx200um | I15: ABE5951/250521 | J15: 45804 | K15: NEW OE | L15: 100 | M15: =IF(L15="","",IF(L15<=10,0,IF(L15<=50,3,IF(L15<=100,10,IF(L15<=1000,20,100))))) -> 10 | N15: =IF(B15="","",IF(L15<=0,"발주필요",IF(L15<M15,"부족","정상"))) -> 정상 | O15: 연구개발 | Q15: NAS:/[] 연구소/1. 개발/소자_재고관리대장/OE/G6854-01SPL(bare chip)_Spec_SK TELECOM_2503_original.pdf | S15: 1550nm PD
A16: =ROW()-6 -> 10 | B16: GC1904 | C16: SEMTECH | D16: Driver IC/LA 통합형 | E16: 1 | F16: 12.5 Gbps/ch | G16: Bare Die | H16: 1.35mm x 2.0mm x 200μm | I16: 211395.1/2303 | K16: DIC | L16: 20 | M16: =IF(L16="","",IF(L16<=10,0,IF(L16<=50,3,IF(L16<=100,10,IF(L16<=1000,20,100))))) -> 3 | N16: =IF(B16="","",IF(L16<=0,"발주필요",IF(L16<M16,"부족","정상"))) -> 정상 | O16: 연구개발 | P16: AOC | Q16: NAS:/[] 연구소/1. 개발/소자_재고관리대장/DIC/GC1904_Final_Data_Sheet_Rev4_Femtory.pdf
A17: =ROW()-6 -> 11 | B17: GN1061 | C17: SEMTECH | D17: TIA | E17: 1 | F17: 11.3 Gbps/ch | G17: Bare Die | H17: 1465um x 905um x 250um | I17: 432772.1P/2317 | J17: 45057 | K17: DIC | L17: 20 | M17: =IF(L17="","",IF(L17<=10,0,IF(L17<=50,3,IF(L17<=100,10,IF(L17<=1000,20,100))))) -> 3 | N17: =IF(B17="","",IF(L17<=0,"발주필요",IF(L17<M17,"부족","정상"))) -> 정상 | O17: 연구개발 | P17: APD diode | Q17: NAS:/[] 연구소/1. 개발/소자_재고관리대장/DIC/GN1061_Final_Data_Sheet_Rev3_Femtory.pdf | S17: CDR x,VGA, output driver 포함
A18: =ROW()-6 -> 12 | B18: GN1068 | C18: SEMTECH | D18: TIA | E18: 1 | F18: 14.3 Gbps/ch | G18: Bare Die | I18: 127367.1A/1718 | J18: 42872 | K18: DIC | L18: 20 | M18: =IF(L18="","",IF(L18<=10,0,IF(L18<=50,3,IF(L18<=100,10,IF(L18<=1000,20,100))))) -> 3 | N18: =IF(B18="","",IF(L18<=0,"발주필요",IF(L18<M18,"부족","정상"))) -> 정상 | O18: 연구개발 | P18: PIN PD | S18: CDR x, 상세 data sheet 필요
A19: =ROW()-6 -> 13 | B19: GN1090 | C19: SEMTECH | D19: TIA/LA 통합형 | E19: 4 | F19: 14.5 Gbps/ch | G19: Bare Die | H19: 1.8mm x 2.0mm x 200um | I19: 115195.1/1811 | K19: DIC | L19: 20 | M19: =IF(L19="","",IF(L19<=10,0,IF(L19<=50,3,IF(L19<=100,10,IF(L19<=1000,20,100))))) -> 3 | N19: =IF(B19="","",IF(L19<=0,"발주필요",IF(L19<M19,"부족","정상"))) -> 정상 | O19: 연구개발 | P19: QSFP+Transceiver/PIN PD | Q19: NAS:/[] 연구소/1. 개발/소자_재고관리대장/DIC/GN1090_Final_Data_Sheet_Rev8_Femtory.pdf | S19: compatible with 250um pitch PIN diode arrays, CDR x
A20: =ROW()-6 -> 14 | B20: GN1190 | C20: SEMTECH | D20: Driver IC | E20: 4 | F20: 14.5 Gbps/ch | G20: Bare Die | H20: 1.8mm x 2.0mm x 200um | I20: 433454.1/2251 | K20: DIC | L20: 20 | M20: =IF(L20="","",IF(L20<=10,0,IF(L20<=50,3,IF(L20<=100,10,IF(L20<=1000,20,100))))) -> 3 | N20: =IF(B20="","",IF(L20<=0,"발주필요",IF(L20<M20,"부족","정상"))) -> 정상 | O20: 연구개발 | P20: QSFP+Transceiver/PIN PD | Q20: NAS:/[] 연구소/1. 개발/소자_재고관리대장/DIC/GN1190_Final_Data_Sheet_Rev5_Femtory.pdf | S20: CDR x
A21: =ROW()-6 -> 15 | B21: GN2108S | C21: SEMTECH | D21: Driver IC/CDR 통합형 | E21: 4 | F21: 28.1 Gbps/ch | G21: Bare Die | H21: 3.022mm x 2.042mm x 151µm | I21: 232007.2/1951 | J21: 44749 | K21: DIC | L21: 20 | M21: =IF(L21="","",IF(L21<=10,0,IF(L21<=50,3,IF(L21<=100,10,IF(L21<=1000,20,100))))) -> 3 | N21: =IF(B21="","",IF(L21<=0,"발주필요",IF(L21<M21,"부족","정상"))) -> 정상 | O21: 연구개발 | P21: Transceiver/VCSEL | Q21: NAS:/[] 연구소/1. 개발/소자_재고관리대장/DIC/GN2108S_4CH_VCSEL_DRV_Final_Data_Sheet_Rev10.pdf | S21: Tx EQ/LA 포함
A22: =ROW()-6 -> 16 | B22: GN2109S | C22: SEMTECH | D22: CDR/TIA/LA 통합형 | E22: 4 | F22: 28.1 Gbps/ch | G22: Bare Die | H22: 3.022mm x 2.042mm x 150µm | I22: 397415.2/2435 | J22: 45545 | K22: DIC | L22: 20 | M22: =IF(L22="","",IF(L22<=10,0,IF(L22<=50,3,IF(L22<=100,10,IF(L22<=1000,20,100))))) -> 3 | N22: =IF(B22="","",IF(L22<=0,"발주필요",IF(L22<M22,"부족","정상"))) -> 정상 | O22: 연구개발 | P22: Transceiver/PIN PD | Q22: NAS:/[] 연구소/1. 개발/소자_재고관리대장/DIC/GN2109S_GN2110S__4CH_TIA_ROW_Final_Data_Sheet_Rev16.pdf | S22: compatible with 250um pitch PIN diode arrays
A23: =ROW()-6 -> 17 | B23: KPDG006HAn | C23: Kyosemi | D23: PIN PD | E23: 4 | F23: 10 Gbps/ch | G23: Array chip | H23: 1mmx0.38mmx0.2mm | I23: RDG006HAn-11K02 | J23: 40900 | K23: OLD OE #2 | L23: 20 | M23: =IF(L23="","",IF(L23<=10,0,IF(L23<=50,3,IF(L23<=100,10,IF(L23<=1000,20,100))))) -> 3 | N23: =IF(B23="","",IF(L23<=0,"발주필요",IF(L23<M23,"부족","정상"))) -> 정상 | O23: 연구개발 | Q23: 인쇄물 | S23: 10 Gbps GaAs PD array chip
A24: =ROW()-6 -> 18 | B24: MAOD-131D25I-LCT3 | C24: MACOM | D24: VCSEL / LD | E24: 1 | F24: 25 Gbps/ch | G24: Bare Die | H24: 250umx250umx100um | I24: Q89LMGTGM6/2226 | K24: NEW OE | L24: 1000 | M24: =IF(L24="","",IF(L24<=10,0,IF(L24<=50,3,IF(L24<=100,10,IF(L24<=1000,20,100))))) -> 20 | N24: =IF(B24="","",IF(L24<=0,"발주필요",IF(L24<M24,"부족","정상"))) -> 정상 | O24: 연구개발 | Q24: NAS:/[] 연구소/1. 개발/소자_재고관리대장/OE/1. [LD] MAOD-1xxD25x-LCT3_V1.pdf | S24: 1310nm DFB Laser
A25: =ROW()-6 -> 19 | B25: MAOD-155D00B-LCT5 | C25: MACOM | D25: VCSEL / LD | E25: 1 | G25: Bare Die | H25: 1000umx250umx100um | I25: Q8E4MHM6D3/2517 | K25: NEW OE | L25: 10 | M25: =IF(L25="","",IF(L25<=10,0,IF(L25<=50,3,IF(L25<=100,10,IF(L25<=1000,20,100))))) -> 0 | N25: =IF(B25="","",IF(L25<=0,"발주필요",IF(L25<M25,"부족","정상"))) -> 정상 | O25: 연구개발 | P25: LiDAR,CoPackage | Q25: NAS:/[] 연구소/1. 개발/소자_재고관리대장/OE/MAOD-155D00B-LCT5_V1A_NDA.pdf | S25: 1550nm LD 50mW class 50°C
A26: =ROW()-6 -> 20 | B26: MAOD-31DCWG-T0751P | C26: MACOM | D26: VCSEL / LD | E26: 1 | G26: Bare Die | H26: 1000umx250umx100um | I26: Q8MBMLH5A5/2529 | K26: NEW OE | L26: 10 | M26: =IF(L26="","",IF(L26<=10,0,IF(L26<=50,3,IF(L26<=100,10,IF(L26<=1000,20,100))))) -> 0 | N26: =IF(B26="","",IF(L26<=0,"발주필요",IF(L26<M26,"부족","정상"))) -> 정상 | O26: 연구개발 | Q26: NAS:/[] 연구소/1. 개발/소자_재고관리대장/OE/3. [LD]MAOD-31DCWG-T0751_V1P_NDA.pdf | S26: 1310nm Edge Emitting DFB LD 75mW
A27: =ROW()-6 -> 21 | B27: MAOD-31DCWG-T0751P | C27: MACOM | D27: VCSEL / LD | E27: 1 | G27: Bare Die | H27: 1000umx250umx100um | I27: Q8MBMLH5A7/2529 | K27: NEW OE | L27: 21 | M27: =IF(L27="","",IF(L27<=10,0,IF(L27<=50,3,IF(L27<=100,10,IF(L27<=1000,20,100))))) -> 3 | N27: =IF(B27="","",IF(L27<=0,"발주필요",IF(L27<M27,"부족","정상"))) -> 정상 | O27: 연구개발 | Q27: NAS:/[] 연구소/1. 개발/소자_재고관리대장/OE/3. [LD]MAOD-31DCWG-T0751_V1P_NDA.pdf | S27: 1310nm Edge Emitting DFB LD 75mW
A28: =ROW()-6 -> 22 | B28: MATA-03006C | C28: MACOM | D28: TIA | E28: 1 | F28: 28 Gbps/ch | G28: Bare Die | H28: 1220um x 952 um x 200um | I28: M46787.1.6 / 2226 | K28: DIC | L28: 25 | M28: =IF(L28="","",IF(L28<=10,0,IF(L28<=50,3,IF(L28<=100,10,IF(L28<=1000,20,100))))) -> 3 | N28: =IF(B28="","",IF(L28<=0,"발주필요",IF(L28<M28,"부족","정상"))) -> 정상 | O28: 연구개발 | P28: APD diode | Q28: NAS:/[] 연구소/1. 개발/소자_재고관리대장/DIC/MATA-03006C_1CH_TIA_V2.pdf | S28: CDR x
A29: =ROW()-6 -> 23 | B29: PBLTFN1-REN1 | C29: Optowell | D29: BOSA | E29: 1 | F29: 2.5 Gbps/ch | G29: BOSA | H29: Body 13.95(L) × 8.23(H) × 6.2(W) mm / Rear 1.85 ± 0.3 mm / Lead 13.5 ± 1.0 mm | I29: VP0515-W059 | J29: 42433 | K29: OLD OE #1 | L29: 5 | M29: =IF(L29="","",IF(L29<=10,0,IF(L29<=50,3,IF(L29<=100,10,IF(L29<=1000,20,100))))) -> 0 | N29: =IF(B29="","",IF(L29<=0,"발주필요",IF(L29<M29,"부족","정상"))) -> 정상 | O29: 연구개발 | Q29: NAS:/[] 연구소/1. 개발/소자_재고관리대장/OE/OPS-F-P-VP104-PBLTFN1-REN12.0.pdf | S29: 2.5 Gbps 980nm VCSEL Tx/ GaAs PIN TIA Rx BIDI
A30: =ROW()-6 -> 24 | B30: PBLTFN1-RGN1 | C30: Optowell | D30: BOSA | E30: 1 | F30: 2.5 Gbps/ch | G30: BOSA | I30: VP0815-W101 | J30: 42433 | K30: OLD OE #1 | L30: 5 | M30: =IF(L30="","",IF(L30<=10,0,IF(L30<=50,3,IF(L30<=100,10,IF(L30<=1000,20,100))))) -> 0 | N30: =IF(B30="","",IF(L30<=0,"발주필요",IF(L30<M30,"부족","정상"))) -> 정상 | O30: 연구개발 | Q30: 인쇄물 | S30: 2.5 Gbps 980nm VCSEL Tx/ InGaAs PIN TIA Rx BIDI
A31: =ROW()-6 -> 25 | B31: PD sample | C31: Optowell | D31: PIN PD | E31: 1 | F31: 16 Gbps/ch | G31: Bare Die | I31: PC16-048A-C0060 | K31: OLD OE #2 | L31: 50 | M31: =IF(L31="","",IF(L31<=10,0,IF(L31<=50,3,IF(L31<=100,10,IF(L31<=1000,20,100))))) -> 3 | N31: =IF(B31="","",IF(L31<=0,"발주필요",IF(L31<M31,"부족","정상"))) -> 정상 | O31: 연구개발 | S31: 850nm PIN PD
A32: =ROW()-6 -> 26 | B32: PM67-F1P0U | C32: Optowell | D32: VCSEL / LD | E32: 1 | G32: TO-Can | H32: Flange Ø5.35 mm / Can Ø4.7 × H3.75 mm | I32: VT1216-W148/170811 | J32: 42964 | K32: OLD OE #1 | L32: 3 | M32: =IF(L32="","",IF(L32<=10,0,IF(L32<=50,3,IF(L32<=100,10,IF(L32<=1000,20,100))))) -> 0 | N32: =IF(B32="","",IF(L32<=0,"발주필요",IF(L32<M32,"부족","정상"))) -> 정상 | O32: 연구개발 | Q32: NAS:/[] 연구소/1. 개발/소자_재고관리대장/OE/OPS-F-P-V301-PM67-F1P0U1.0.pdf | S32: 670nm VCSEL TO-46 Can Package 3pin
A33: =ROW()-6 -> 27 | B33: PM78-F1P1F-AC | C33: Optowell | D33: VCSEL / LD | E33: 1 | F33: 4.25 Gbps/ch | G33: TO-Can | H33: Flange Ø5.4 mm / Can Ø4.72 × H2.95 mm / Lead 13.5 ± 1.0 mm | I33: TMPT1611-134/170811 | J33: 42964 | K33: OLD OE #1 | L33: 3 | M33: =IF(L33="","",IF(L33<=10,0,IF(L33<=50,3,IF(L33<=100,10,IF(L33<=1000,20,100))))) -> 0 | N33: =IF(B33="","",IF(L33<=0,"발주필요",IF(L33<M33,"부족","정상"))) -> 정상 | O33: 연구개발 | Q33: 인쇄물 | S33: 780nm 4.25Gbps VCSEL TO-46Can package
A34: =ROW()-6 -> 28 | B34: PM85-B1P1F-AC | C34: Optowell | D34: VCSEL / LD | E34: 1 | I34: SPPT1409-050 | K34: OLD OE #1 | L34: 2 | M34: =IF(L34="","",IF(L34<=10,0,IF(L34<=50,3,IF(L34<=100,10,IF(L34<=1000,20,100))))) -> 0 | N34: =IF(B34="","",IF(L34<=0,"발주필요",IF(L34<M34,"부족","정상"))) -> 정상 | O34: 연구개발
A35: =ROW()-6 -> 29 | B35: PR65-F1P0T | C35: Optowell | D35: LED | E35: 1 | F35: 155 Mbps/ch | G35: TO-Can | H35: Flange Ø5.35 mm / Can Ø4.7 × H3.6 mm / Lead 13.5 mm | I35: RT0217-W038/170811 | J35: 42964 | K35: OLD OE #1 | L35: 3 | M35: =IF(L35="","",IF(L35<=10,0,IF(L35<=50,3,IF(L35<=100,10,IF(L35<=1000,20,100))))) -> 0 | N35: =IF(B35="","",IF(L35<=0,"발주필요",IF(L35<M35,"부족","정상"))) -> 정상 | O35: 연구개발 | Q35: NAS:/[] 연구소/1. 개발/소자_재고관리대장/OE/OPS-F-P-R102-PR65-F1P0T2.0.pdf | S35: 650nm RCLED TO-18CAN Package
A36: =ROW()-6 -> 30 | B36: RP85-LCT1S | C36: Optowell | D36: PIN PD | E36: 1 | F36: 1.25 Gbps/ch | G36: ROSA | K36: OLD OE #1 | L36: 1 | M36: =IF(L36="","",IF(L36<=10,0,IF(L36<=50,3,IF(L36<=100,10,IF(L36<=1000,20,100))))) -> 0 | N36: =IF(B36="","",IF(L36<=0,"발주필요",IF(L36<M36,"부족","정상"))) -> 정상 | O36: 연구개발 | S36: 850nm 1.25G LC ROSA
A37: =ROW()-6 -> 31 | B37: SH85-2S001 | C37: Optowell | D37: VCSEL / LD | E37: 1 | G37: Bare Die | H37: 300umx300umx200um | I37: VC2502-016-D1003#1Q4 | K37: NEW OE | L37: 1050 | M37: =IF(L37="","",IF(L37<=10,0,IF(L37<=50,3,IF(L37<=100,10,IF(L37<=1000,20,100))))) -> 100 | N37: =IF(B37="","",IF(L37<=0,"발주필요",IF(L37<M37,"부족","정상"))) -> 정상 | O37: 연구개발 | Q37: NAS:/[] 연구소/1. 개발/소자_재고관리대장/OE/[10mW]SPEC _ SH85-2S001 (Rev3.0) _ 24.10.18.pdf | S37: 10mW 850nm VCSEL
A38: =ROW()-6 -> 32 | B38: SM78-3N001 | C38: Optowell | D38: VCSEL / LD | E38: 1 | F38: 1.25 Gbps/ch | G38: Bare Die | H38: 250umx250umx200um | I38: VC1402-007-A4449#1Q2 | K38: OLD OE #1 | L38: 110 | M38: =IF(L38="","",IF(L38<=10,0,IF(L38<=50,3,IF(L38<=100,10,IF(L38<=1000,20,100))))) -> 20 | N38: =IF(B38="","",IF(L38<=0,"발주필요",IF(L38<M38,"부족","정상"))) -> 정상 | O38: 연구개발 | Q38: 인쇄물 | S38: 780nm VCSEL
A39: =ROW()-6 -> 33 | B39: SM85-1AH001 | C39: Optowell | D39: VCSEL / LD | E39: 1 | F39: 14 Gbps/ch | G39: Bare Die | H39: 230um x 230um x 150um | I39: VC1911-188-K0135#10Q4 | K39: NEW OE | L39: 2099 | M39: =IF(L39="","",IF(L39<=10,0,IF(L39<=50,3,IF(L39<=100,10,IF(L39<=1000,20,100))))) -> 100 | N39: =IF(B39="","",IF(L39<=0,"발주필요",IF(L39<M39,"부족","정상"))) -> 정상 | O39: 연구개발 | Q39: NAS:/[] 연구소/1. 개발/소자_재고관리대장/OE/[VCSEL_3mW] 14G SPEC_SM85-1AH001_Rev_3.0.pdf | R39: NAS:/[] 연구소/1. 개발/소자_재고관리대장/OE/240705 SM85-1UH001W & SM85-1AH001W 온도별 bandwidth 평가 Data (2).pdf | S39: 3mW 850nm 14Gbps VCSEL
A40: =ROW()-6 -> 34 | B40: SM85-1AH001 | C40: Optowell | D40: VCSEL / LD | E40: 1 | F40: 14 Gbps/ch | G40: Bare Die | H40: 230um x 230um x 150um | I40: VC1903-012-A6353#1Q1 | K40: NEW OE | L40: 6228 | M40: =IF(L40="","",IF(L40<=10,0,IF(L40<=50,3,IF(L40<=100,10,IF(L40<=1000,20,100))))) -> 100 | N40: =IF(B40="","",IF(L40<=0,"발주필요",IF(L40<M40,"부족","정상"))) -> 정상 | O40: 연구개발 | Q40: NAS:/[] 연구소/1. 개발/소자_재고관리대장/OE/[VCSEL_3mW] 14G SPEC_SM85-1AH001_Rev_3.0.pdf | R40: NAS:/[] 연구소/1. 개발/소자_재고관리대장/OE/240705 SM85-1UH001W & SM85-1AH001W 온도별 bandwidth 평가 Data (2).pdf | S40: 3mW 850nm 14Gbps VCSEL
A41: =ROW()-6 -> 35 | B41: SM85-1H001 | C41: Optowell | D41: VCSEL / LD | E41: 1 | F41: 10 Gbps/ch | G41: Bare Die | H41: 300umx300umx200um | I41: VC1305-164-A4102#1Q2 | K41: OLD OE #2 | L41: 300 | M41: =IF(L41="","",IF(L41<=10,0,IF(L41<=50,3,IF(L41<=100,10,IF(L41<=1000,20,100))))) -> 20 | N41: =IF(B41="","",IF(L41<=0,"발주필요",IF(L41<M41,"부족","정상"))) -> 정상 | O41: 연구개발 | Q41: 인쇄물 | R41: NAS:/[] 연구소/1. 개발/소자_재고관리대장/OE/DVT Technical Reports (SM85-1H001).pdf | S41: 10Gbps 850nm VCSEL
A42: =ROW()-6 -> 36 | B42: SM85-1UH001 | C42: Optowell | D42: VCSEL / LD | E42: 1 | F42: 25 Gbps/ch | G42: Bare Die | H42: 230um x 230um x 150um | I42: VC17-25G-18 | K42: NEW OE | L42: 70 | M42: =IF(L42="","",IF(L42<=10,0,IF(L42<=50,3,IF(L42<=100,10,IF(L42<=1000,20,100))))) -> 10 | N42: =IF(B42="","",IF(L42<=0,"발주필요",IF(L42<M42,"부족","정상"))) -> 정상 | O42: 연구개발 | Q42: NAS:/[] 연구소/1. 개발/소자_재고관리대장/OE/[VCSEL 3.5mW] 25G SPEC SHEET SM85-1UH001 Rev 1.0.pdf | S42: 5.2mW 850nm 25Gbps VCSEL
...

Sheet 종류별 현황
A1: 소자 종류별 재고 현황
A4: 소자 구분 | B4: 등록 품목 수 | C4: 총 재고 수량 | D4: 부족/발주 품목
A5: Driver IC | B5: =COUNTIF('통합 재고현황'!$D$7:$D$206,A5) -> 1 | C5: =SUMIF('통합 재고현황'!$D$7:$D$206,A5,'통합 재고현황'!$L$7:$L$206) -> 20 | D5: =COUNTIFS('통합 재고현황'!$D$7:$D$206,A5,'통합 재고현황'!$N$7:$N$206,"부족")+COUNTIFS('통합 재고현황'!$D$7:$D$206,A5,'통합 재고현황'!$N$7:$N$206,"발주필요") -> 0
A6: TIA | B6: =COUNTIF('통합 재고현황'!$D$7:$D$206,A6) -> 3 | C6: =SUMIF('통합 재고현황'!$D$7:$D$206,A6,'통합 재고현황'!$L$7:$L$206) -> 65 | D6: =COUNTIFS('통합 재고현황'!$D$7:$D$206,A6,'통합 재고현황'!$N$7:$N$206,"부족")+COUNTIFS('통합 재고현황'!$D$7:$D$206,A6,'통합 재고현황'!$N$7:$N$206,"발주필요") -> 0
A7: LA | B7: =COUNTIF('통합 재고현황'!$D$7:$D$206,A7) -> 0 | C7: =SUMIF('통합 재고현황'!$D$7:$D$206,A7,'통합 재고현황'!$L$7:$L$206) -> 0 | D7: =COUNTIFS('통합 재고현황'!$D$7:$D$206,A7,'통합 재고현황'!$N$7:$N$206,"부족")+COUNTIFS('통합 재고현황'!$D$7:$D$206,A7,'통합 재고현황'!$N$7:$N$206,"발주필요") -> 0
A8: TIA/LA 통합형 | B8: =COUNTIF('통합 재고현황'!$D$7:$D$206,A8) -> 1 | C8: =SUMIF('통합 재고현황'!$D$7:$D$206,A8,'통합 재고현황'!$L$7:$L$206) -> 20 | D8: =COUNTIFS('통합 재고현황'!$D$7:$D$206,A8,'통합 재고현황'!$N$7:$N$206,"부족")+COUNTIFS('통합 재고현황'!$D$7:$D$206,A8,'통합 재고현황'!$N$7:$N$206,"발주필요") -> 0
A9: CDR/Retimer | B9: =COUNTIF('통합 재고현황'!$D$7:$D$206,A9) -> 0 | C9: =SUMIF('통합 재고현황'!$D$7:$D$206,A9,'통합 재고현황'!$L$7:$L$206) -> 0 | D9: =COUNTIFS('통합 재고현황'!$D$7:$D$206,A9,'통합 재고현황'!$N$7:$N$206,"부족")+COUNTIFS('통합 재고현황'!$D$7:$D$206,A9,'통합 재고현황'!$N$7:$N$206,"발주필요") -> 0
A10: MCU / Control IC | B10: =COUNTIF('통합 재고현황'!$D$7:$D$206,A10) -> 0 | C10: =SUMIF('통합 재고현황'!$D$7:$D$206,A10,'통합 재고현황'!$L$7:$L$206) -> 0 | D10: =COUNTIFS('통합 재고현황'!$D$7:$D$206,A10,'통합 재고현황'!$N$7:$N$206,"부족")+COUNTIFS('통합 재고현황'!$D$7:$D$206,A10,'통합 재고현황'!$N$7:$N$206,"발주필요") -> 0
A11: LDO / DC-DC | B11: =COUNTIF('통합 재고현황'!$D$7:$D$206,A11) -> 0 | C11: =SUMIF('통합 재고현황'!$D$7:$D$206,A11,'통합 재고현황'!$L$7:$L$206) -> 0 | D11: =COUNTIFS('통합 재고현황'!$D$7:$D$206,A11,'통합 재고현황'!$N$7:$N$206,"부족")+COUNTIFS('통합 재고현황'!$D$7:$D$206,A11,'통합 재고현황'!$N$7:$N$206,"발주필요") -> 0
A12: VCSEL / LD | B12: =COUNTIF('통합 재고현황'!$D$7:$D$206,A12) -> 26 | C12: =SUMIF('통합 재고현황'!$D$7:$D$206,A12,'통합 재고현황'!$L$7:$L$206) -> 12459 | D12: =COUNTIFS('통합 재고현황'!$D$7:$D$206,A12,'통합 재고현황'!$N$7:$N$206,"부족")+COUNTIFS('통합 재고현황'!$D$7:$D$206,A12,'통합 재고현황'!$N$7:$N$206,"발주필요") -> 0
A13: PIN PD | B13: =COUNTIF('통합 재고현황'!$D$7:$D$206,A13) -> 12 | C13: =SUMIF('통합 재고현황'!$D$7:$D$206,A13,'통합 재고현황'!$L$7:$L$206) -> 3241 | D13: =COUNTIFS('통합 재고현황'!$D$7:$D$206,A13,'통합 재고현황'!$N$7:$N$206,"부족")+COUNTIFS('통합 재고현황'!$D$7:$D$206,A13,'통합 재고현황'!$N$7:$N$206,"발주필요") -> 0
A14: CDR/TIA/LA 통합형 | B14: =COUNTIF('통합 재고현황'!$D$7:$D$206,A14) -> 1 | C14: =SUMIF('통합 재고현황'!$D$7:$D$206,A14,'통합 재고현황'!$L$7:$L$206) -> 20 | D14: =COUNTIFS('통합 재고현황'!$D$7:$D$206,A14,'통합 재고현황'!$N$7:$N$206,"부족")+COUNTIFS('통합 재고현황'!$D$7:$D$206,A14,'통합 재고현황'!$N$7:$N$206,"발주필요") -> 0
A15: Driver IC/LA 통합형 | B15: =COUNTIF('통합 재고현황'!$D$7:$D$206,A15) -> 1 | C15: =SUMIF('통합 재고현황'!$D$7:$D$206,A15,'통합 재고현황'!$L$7:$L$206) -> 20 | D15: =COUNTIFS('통합 재고현황'!$D$7:$D$206,A15,'통합 재고현황'!$N$7:$N$206,"부족")+COUNTIFS('통합 재고현황'!$D$7:$D$206,A15,'통합 재고현황'!$N$7:$N$206,"발주필요") -> 0
A16: Driver IC/CDR 통합형 | B16: =COUNTIF('통합 재고현황'!$D$7:$D$206,A16) -> 1 | C16: =SUMIF('통합 재고현황'!$D$7:$D$206,A16,'통합 재고현황'!$L$7:$L$206) -> 20 | D16: =COUNTIFS('통합 재고현황'!$D$7:$D$206,A16,'통합 재고현황'!$N$7:$N$206,"부족")+COUNTIFS('통합 재고현황'!$D$7:$D$206,A16,'통합 재고현황'!$N$7:$N$206,"발주필요") -> 0
A17: LED | B17: =COUNTIF('통합 재고현황'!$D$7:$D$206,A17) -> 1 | C17: =SUMIF('통합 재고현황'!$D$7:$D$206,A17,'통합 재고현황'!$L$7:$L$206) -> 3 | D17: =COUNTIFS('통합 재고현황'!$D$7:$D$206,A17,'통합 재고현황'!$N$7:$N$206,"부족")+COUNTIFS('통합 재고현황'!$D$7:$D$206,A17,'통합 재고현황'!$N$7:$N$206,"발주필요") -> 0

Sheet 입출고이력
A1: 전자소자 입출고 이력
A2: 입고·출고·반납·폐기·실사조정 시 한 줄씩 기록합니다.
A4: No. | B4: 처리일 | C4: 구분 | D4: 소자 구분 | E4: 품번(Part No.) | F4: 제조사 | G4: 수량 | H4: Lot / Date Code | I4: 보관 위치 | J4: 처리자/사용처/비고
A5: =ROW()-4 -> 1
A6: =ROW()-4 -> 2
A7: =ROW()-4 -> 3
A8: =ROW()-4 -> 4
A9: =ROW()-4 -> 5
A10: =ROW()-4 -> 6
A11: =ROW()-4 -> 7
A12: =ROW()-4 -> 8
A13: =ROW()-4 -> 9
A14: =ROW()-4 -> 10
A15: =ROW()-4 -> 11
A16: =ROW()-4 -> 12
... A204: =ROW()-4 -> 200

Sheet 코드목록
A1: 소자 구분 | B1: 패키지 형태 | C1: 사용 목적 | D1: 보관 박스 | E1: 박스 실제 위치
A2: Driver IC | B2: Bare Die | C2: 연구개발 | D2: OLD OE #1 | E2: 6F 연구실 선반
A3: TIA | B3: BOSA | C3: 시제품 | D3: 4CH Array | E3: 6F 연구실 선반
A4: LA | B4: Array chip | C4: 평가보드 | D4: NEW OE | E4: 6F 연구실 선반
A5: TIA/LA 통합형 | B5: TOSA | C5: 양산 | D5: OLD OE #2 | E5: 6F 연구실 선반
A6: CDR/Retimer | B6: ROSA | C6: 분석/분해 | D6: DIC | E6: 6F 연구실 선반
A7: MCU / Control IC | B7: SOIC | C7: 기타 | D7: 10F 선반
A8: LDO / DC-DC | B8: TO-Can
A9: VCSEL / LD
A10: PIN PD
A11: Driver IC/LA 통합형
A12: Driver IC/CDR 통합형
A13: LED
A14: BOSA
A15: CDR/TIA/LA 통합형
A16: 광 Transceiver IC
A17: Serializer IC
A18: Deserializer IC
A19: MIPI D-PHY Bridge IC
