Workbook

Sheet 통합 재고현황
A1: 소자 통합 재고 현황
A3: 등록 품목 수 | B3: 총 재고 수량 | C3: 부족/발주 품목
A4: =COUNTA(B7:B206) -> 49 | B4: =SUM(L7:L206) -> 15878 | C4: =COUNTIF(N7:N206,"부족")+COUNTIF(N7:N206,"발주필요") -> 0
A6: No. | B6: 품번(Part No.) | C6: 제조사 | D6: 소자 구분 | E6: 채널 수 | F6: 최대 데이터레이트 (Gbps/ch) | G6: 패키지 형태 | H6: 패키지/Die 크기 | I6: Lot / Date Code | J6: 입고일 | K6: 보관 위치 | L6: 현재 재고 | M6: 최소 재고 | N6: 재고 상태 | O6: 사용 목적 | P6: 적용 프로젝트/제품 | Q6: 데이터시트/URL | R6: DVT Report | S6: 비고
A7: =ROW()-6 -> 1 | B7: 25G VCSEL (top p&N) | C7: Optowell | D7: VCSEL / LD | E7: 1 | F7: 25 Gbps/ch | G7: Bare Die | I7: VC1507-058 | K7: OLD OE #2 | L7: 10 | M7: =IF(L7="","",IF(L7<=10,0,IF(L7<=50,3,IF(L7<=100,10,IF(L7<=1000,20,100))))) -> 0 | N7: =IF(B7="","",IF(L7<=0,"발주필요",IF(L7<M7,"부족","정상"))) -> 정상 | O7: 연구개발 | Q7: - | S7: 25Gbps 850nm VCSEL
A8: =ROW()-6 -> 2 | B8: 25G VCSEL (top p&N) | C8: Optowell | D8: VCSEL / LD | E8: 1 | F8: 25 Gbps/ch | G8: Bare Die | I8: VC1507-053 | K8: OLD OE #2 | L8: 10 | M8: =IF(L8="","",IF(L8<=10,0,IF(L8<=50,3,IF(L8<=100,10,IF(L8<=1000,20,100))))) -> 0 | N8: =IF(B8="","",IF(L8<=0,"발주필요",IF(L8<M8,"부족","정상"))) -> 정상 | O8: 연구개발 | Q8: - | S8: 25Gbps 850nm VCSEL
A9: =ROW()-6 -> 3 | B9: 25G VCSEL (top p&N) | C9: Optowell | D9: VCSEL / LD | E9: 1 | F9: 25 Gbps/ch | G9: Bare Die | I9: VC1507-059 | K9: OLD OE #2 | L9: 10 | M9: =IF(L9="","",IF(L9<=10,0,IF(L9<=50,3,IF(L9<=100,10,IF(L9<=1000,20,100))))) -> 0 | N9: =IF(B9="","",IF(L9<=0,"발주필요",IF(L9<M9,"부족","정상"))) -> 정상 | O9: 연구개발 | Q9: - | S9: 25Gbps 850nm VCSEL
A10: =ROW()-6 -> 4 | B10: AM85-1AH104W | C10: Optowell | D10: VCSEL / LD | E10: 4 | F10: 14 Gbps/ch | G10: Array chip | H10: 980umx230umx150um | I10: VC2408-113-D0332#5Q1 | J10: 45554 | K10: 4CH Array | L10: 120 | M10: =IF(L10="","",IF(L10<=10,0,IF(L10<=50,3,IF(L10<=100,10,IF(L10<=1000,20,100))))) -> 20 | N10: =IF(B10="","",IF(L10<=0,"발주필요",IF(L10<M10,"부족","정상"))) -> 정상 | O10: 연구개발 | S10: 14 Gbps 850nm 1x4 VCSEL Array chip
A11: =ROW()-6 -> 5 | B11: AM85-1UH104W | C11: Optowell | D11: VCSEL / LD | E11: 4 | F11: 25 Gbps/ch | G11: Array chip | H11: 980umx230umx150um | I11: VC2211-147-OI002#5Q1 | J11: 45527 | K11: 4CH Array | L11: 125 | M11: =IF(L11="","",IF(L11<=10,0,IF(L11<=50,3,IF(L11<=100,10,IF(L11<=1000,20,100))))) -> 20 | N11: =IF(B11="","",IF(L11<=0,"발주필요",IF(L11<M11,"부족","정상"))) -> 정상 | O11: 연구개발 | Q11: NAS:/[] 연구소/1. 개발/소자_재고관리대장/OE/SPEC_AM85-1UH104W_Rev_1.0_23.01.10.pdf | S11: 25 Gbps 850nm 1x4 VCSEL Array chip
A12: =ROW()-6 -> 6 | B12: AP85-1AH104 | C12: Optowell | D12: PIN PD | E12: 4 | F12: 14 Gbps/ch | G12: Array chip | H12: 980umx230umx150um | I12: PC2210-149-C0788#1Q3 | J12: 45554 | K12: 4CH Array | L12: 120 | M12: =IF(L12="","",IF(L12<=10,0,IF(L12<=50,3,IF(L12<=100,10,IF(L12<=1000,20,100))))) -> 20 | N12: =IF(B12="","",IF(L12<=0,"발주필요",IF(L12<M12,"부족","정상"))) -> 정상 | O12: 연구개발 | Q12: NAS:/[] 연구소/1. 개발/소자_재고관리대장/OE/AM85-1AH104_Rev2.0.pdf | S12: 14 Gbps GaAs 1x4 PIN-PD Array chip
A13: =ROW()-6 -> 7 | B13: AP85-1UH104 | C13: Optowell | D13: PIN PD | E13: 4 | F13: 25 Gbps/ch | G13: Array chip | H13: 980umx230umx150um | I13: PC2212-157-C0816#3Q4 | J13: 45527 | K13: 4CH Array | L13: 130 | M13: =IF(L13="","",IF(L13<=10,0,IF(L13<=50,3,IF(L13<=100,10,IF(L13<=1000,20,100))))) -> 20 | N13: =IF(B13="","",IF(L13<=0,"발주필요",IF(L13<M13,"부족","정상"))) -> 정상 | O13: 연구개발 | Q13: NAS:/[] 연구소/1. 개발/소자_재고관리대장/OE/AP85-1AH104_Rev-1.0.pdf | S13: 25 Gbps GaAs 1x4 PIN-PD Array chip
A14: =ROW()-6 -> 8 | B14: AP85-2M104 | C14: Optowell | D14: PIN PD | E14: 4 | F14: 2.5 Gbps/ch | G14: Array chip | H14: 1015umx397umx200um | I14: PC1110-706-B1668#2Q1 | K14: OLD OE #2 | L14: 100 | M14: =IF(L14="","",IF(L14<=10,0,IF(L14<=50,3,IF(L14<=100,10,IF(L14<=1000,20,100))))) -> 10 | N14: =IF(B14="","",IF(L14<=0,"발주필요",IF(L14<M14,"부족","정상"))) -> 정상 | O14: 연구개발 | Q14: NAS:/[] 연구소/1. 개발/소자_재고관리대장/OE/AP85-2M104_2M112_Rev1.1.pdf | S14: 2.5Gbps 850nm GaAs PIN-PD
A15: =ROW()-6 -> 9 | B15: G6854-3964 | C15: HAMAMATSU | D15: PIN PD | E15: 1 | G15: Bare Die | H15: 400umx400umx200um | I15: ABE5951/250521 | J15: 45804 | K15: NEW OE | L15: 100 | M15: =IF(L15="","",IF(L15<=10,0,IF(L15<=50,3,IF(L15<=100,10,IF(L15<=1000,20,100))))) -> 10 | N15: =IF(B15="","",IF(L15<=0,"발주필요",IF(L15<M15,"부족","정상"))) -> 정상 | O15: 연구개발 | Q15: NAS:/[] 연구소/1. 개발/소자_재고관리대장/OE/G6854-01SPL(bare chip)_Spec_SK TELECOM_2503_original.pdf | S15: 1550nm PD
A16: =ROW()-6 -> 10 | B16: GC1904 | C16: SEMTECH | D16: Driver IC/LA 통합형 | E16: 1 | F16: 12.5 Gbps/ch | G16: Bare Die | H16: 1.35mm x 2.0mm x 200μm | I16: 211395.1/2303 | K16: DIC | L16: 20 | M16: =IF(L16="","",IF(L16<=10,0,IF(L16<=50,3,IF(L16<=100,10,IF(L16<=1000,20,100))))) -> 3 | N16: =IF(B16="","",IF(L16<=0,"발주필요",IF(L16<M16,"부족","정상"))) -> 정상 | O16: 연구개발 | P16: AOC | Q16: NAS:/[] 연구소/1. 개발/소자_재고관리대장/DIC/GC1904_Final_Data_Sheet_Rev4_Femtory.pdf
A17: =ROW()-6 -> 11 | B17: GN1061 | C17: SEMTECH | D17: TIA | E17: 1 | F17: 11.3 Gbps/ch | G17: Bare Die | H17: 1465um x 905um x 250um | I17: 432772.1P/2317 | J17: 45057 | K17: DIC | L17: 20 | M17: =IF(L17="","",IF(L17<=10,0,IF(L17<=50,3,IF(L17<=100,10,IF(L17<=1000,20,100))))) -> 3 | N17: =IF(B17="","",IF(L17<=0,"발주필요",IF(L17<M17,"부족","정상"))) -> 정상 | O17: 연구개발 | P17: APD diode | Q17: NAS:/[] 연구소/1. 개발/소자_재고관리대장/DIC/GN1061_Final_Data_Sheet_Rev3_Femtory.pdf | S17: CDR x,VGA, output driver 포함
A18: =ROW()-6 -> 12 | B18: GN1068 | C18: SEMTECH | D18: TIA | E18: 1 | F18: 14.3 Gbps/ch | G18: Bare Die | I18: 127367.1A/1718 | J18: 42872 | K18: DIC | L18: 20 | M18: =IF(L18="","",IF(L18<=10,0,IF(L18<=50,3,IF(L18<=100,10,IF(L18<=1000,20,100))))) -> 3 | N18: =IF(B18="","",IF(L18<=0,"발주필요",IF(L18<M18,"부족","정상"))) -> 정상 | O18: 연구개발 | P18: PIN PD | S18: CDR x, 상세 data sheet 필요
A19: =ROW()-6 -> 13 | B19: GN1090 | C19: SEMTECH | D19: TIA/LA 통합형 | E19: 4 | F19: 14.5 Gbps/ch | G19: Bare Die | H19: 1.8mm x 2.0mm x 200um | I19: 115195.1/1811 | K19: DIC | L19: 20 | M19: =IF(L19="","",IF(L19<=10,0,IF(L19<=50,3,IF(L19<=100,10,IF(L19<=1000,20,100))))) -> 3 | N19: =IF(B19="","",IF(L19<=0,"발주필요",IF(L19<M19,"부족","정상"))) -> 정상 | O19: 연구개발 | P19: QSFP+Transceiver/PIN PD | Q19: NAS:/[] 연구소/1. 개발/소자_재고관리대장/DIC/GN1090_Final_Data_Sheet_Rev8_Femtory.pdf | S19: compatible with 250um pitch PIN diode arrays, CDR x
A20: =ROW()-6 -> 14 | B20: GN1190 | C20: SEMTECH | D20: Driver IC | E20: 4 | F20: 14.5 Gbps/ch | G20: Bare Die | H20: 1.8mm x 2.0mm x 200um | I20: 433454.1/2251 | K20: DIC | L20: 20 | M20: =IF(L20="","",IF(L20<=10,0,IF(L20<=50,3,IF(L20<=100,10,IF(L20<=1000,20,100))))) -> 3 | N20: =IF(B20="","",IF(L20<=0,"발주필요",IF(L20<M20,"부족","정상"))) -> 정상 | O20: 연구개발 | P20: QSFP+Transceiver/PIN PD | Q20: NAS:/[] 연구소/1. 개발/소자_재고관리대장/DIC/GN1190_Final_Data_Sheet_Rev5_Femtory.pdf | S20: CDR x
A21: =ROW()-6 -> 15 | B21: GN2108S | C21: SEMTECH | D21: Driver IC/CDR 통합형 | E21: 4 | F21: 28.1 Gbps/ch | G21: Bare Die | H21: 3.022mm x 2.042mm x 151µm | I21: 232007.2/1951 | J21: 44749 | K21: DIC | L21: 20 | M21: =IF(L21="","",IF(L21<=10,0,IF(L21<=50,3,IF(L21<=100,10,IF(L21<=1000,20,100))))) -> 3 | N21: =IF(B21="","",IF(L21<=0,"발주필요",IF(L21<M21,"부족","정상"))) -> 정상 | O21: 연구개발 | P21: Transceiver/VCSEL | Q21: NAS:/[] 연구소/1. 개발/소자_재고관리대장/DIC/GN2108S_4CH_VCSEL_DRV_Final_Data_Sheet_Rev10.pdf | S21: Tx EQ/LA 포함
A22: =ROW()-6 -> 16 | B22: GN2109S | C22: SEMTECH | D22: CDR/TIA/LA 통합형 | E22: 4 | F22: 28.1 Gbps/ch | G22: Bare Die | H22: 3.022mm x 2.042mm x 150µm | I22: 397415.2/2435 | J22: 45545 | K22: DIC | L22: 20 | M22: =IF(L22="","",IF(L22<=10,0,IF(L22<=50,3,IF(L22<=100,10,IF(L22<=1000,20,100))))) -> 3 | N22: =IF(B22="","",IF(L22<=0,"발주필요",IF(L22<M22,"부족","정상"))) -> 정상 | O22: 연구개발 | P22: Transceiver/PIN PD | Q22: NAS:/[] 연구소/1. 개발/소자_재고관리대장/DIC/GN2109S_GN2110S__4CH_TIA_ROW_Final_Data_Sheet_Rev16.pdf | S22: compatible with 250um pitch PIN diode arrays
A23: =ROW()-6 -> 17 | B23: KPDG006HAn | C23: Kyosemi | D23: PIN PD | E23: 4 | F23: 10 Gbps/ch | G23: Array chip | H23: 1mmx0.38mmx0.2mm | I23: RDG006HAn-11K02 | J23: 40900 | K23: OLD OE #2 | L23: 20 | M23: =IF(L23="","",IF(L23<=10,0,IF(L23<=50,3,IF(L23<=100,10,IF(L23<=1000,20,100))))) -> 3 | N23: =IF(B23="","",IF(L23<=0,"발주필요",IF(L23<M23,"부족","정상"))) -> 정상 | O23: 연구개발 | Q23: 인쇄물 | S23: 10 Gbps GaAs PD array chip
A24: =ROW()-6 -> 18 | B24: MAOD-131D25I-LCT3 | C24: MACOM | D24: VCSEL / LD | E24: 1 | F24: 25 Gbps/ch | G24: Bare Die | H24: 250umx250umx100um | I24: Q89LMGTGM6/2226 | K24: NEW OE | L24: 1000 | M24: =IF(L24="","",IF(L24<=10,0,IF(L24<=50,3,IF(L24<=100,10,IF(L24<=1000,20,100))))) -> 20 | N24: =IF(B24="","",IF(L24<=0,"발주필요",IF(L24<M24,"부족","정상"))) -> 정상 | O24: 연구개발 | Q24: NAS:/[] 연구소/1. 개발/소자_재고관리대장/OE/1. [LD] MAOD-1xxD25x-LCT3_V1.pdf | S24: 1310nm DFB Laser
A25: =ROW()-6 -> 19 | B25: MAOD-155D00B-LCT5 | C25: MACOM | D25: VCSEL / LD | E25: 1 | G25: Bare Die | H25: 1000umx250umx100um | I25: Q8E4MHM6D3/2517 | K25: NEW OE | L25: 10 | M25: =IF(L25="","",IF(L25<=10,0,IF(L25<=50,3,IF(L25<=100,10,IF(L25<=1000,20,100))))) -> 0 | N25: =IF(B25="","",IF(L25<=0,"발주필요",IF(L25<M25,"부족","정상"))) -> 정상 | O25: 연구개발 | P25: LiDAR,CoPackage | Q25: NAS:/[] 연구소/1. 개발/소자_재고관리대장/OE/MAOD-155D00B-LCT5_V1A_NDA.pdf | S25: 1550nm LD 50mW class 50°C
A26: =ROW()-6 -> 20 | B26: MAOD-31DCWG-T0751P | C26: MACOM | D26: VCSEL / LD | E26: 1 | G26: Bare Die | H26: 1000umx250umx100um | I26: Q8MBMLH5A5/2529 | K26: NEW OE | L26: 10 | M26: =IF(L26="","",IF(L26<=10,0,IF(L26<=50,3,IF(L26<=100,10,IF(L26<=1000,20,100))))) -> 0 | N26: =IF(B26="","",IF(L26<=0,"발주필요",IF(L26<M26,"부족","정상"))) -> 정상 | O26: 연구개발 | Q26: NAS:/[] 연구소/1. 개발/소자_재고관리대장/OE/3. [LD]MAOD-31DCWG-T0751_V1P_NDA.pdf | S26: 1310nm Edge Emitting DFB LD 75mW
A27: =ROW()-6 -> 21 | B27: MAOD-31DCWG-T0751P | C27: MACOM | D27: VCSEL / LD | E27: 1 | G27: Bare Die | H27: 1000umx250umx100um | I27: Q8MBMLH5A7/2529 | K27: NEW OE | L27: 21 | M27: =IF(L27="","",IF(L27<=10,0,IF(L27<=50,3,IF(L27<=100,10,IF(L27<=1000,20,100))))) -> 3 | N27: =IF(B27="","",IF(L27<=0,"발주필요",IF(L27<M27,"부족","정상"))) -> 정상 | O27: 연구개발 | Q27: NAS:/[] 연구소/1. 개발/소자_재고관리대장/OE/3. [LD]MAOD-31DCWG-T0751_V1P_NDA.pdf | S27: 1310nm Edge Emitting DFB LD 75mW
A28: =ROW()-6 -> 22 | B28: MATA-03006C | C28: MACOM | D28: TIA | E28: 1 | F28: 28 Gbps/ch | G28: Bare Die | H28: 1220um x 952 um x 200um | I28: M46787.1.6 / 2226 | K28: DIC | L28: 25 | M28: =IF(L28="","",IF(L28<=10,0,IF(L28<=50,3,IF(L28<=100,10,IF(L28<=1000,20,100))))) -> 3 | N28: =IF(B28="","",IF(L28<=0,"발주필요",IF(L28<M28,"부족","정상"))) -> 정상 | O28: 연구개발 | P28: APD diode | Q28: NAS:/[] 연구소/1. 개발/소자_재고관리대장/DIC/MATA-03006C_1CH_TIA_V2.pdf | S28: CDR x
A29: =ROW()-6 -> 23 | B29: PBLTFN1-REN1 | C29: Optowell | D29: BOSA | E29: 1 | F29: 2.5 Gbps/ch | G29: BOSA | H29: Body 13.95(L) × 8.23(H) × 6.2(W) mm / Rear 1.85 ± 0.3 mm / Lead 13.5 ± 1.0 mm | I29: VP0515-W059 | J29: 42433 | K29: OLD OE #1 | L29: 5 | M29: =IF(L29="","",IF(L29<=10,0,IF(L29<=50,3,IF(L29<=100,10,IF(L29<=1000,20,100))))) -> 0 | N29: =IF(B29="","",IF(L29<=0,"발주필요",IF(L29<M29,"부족","정상"))) -> 정상 | O29: 연구개발 | Q29: NAS:/[] 연구소/1. 개발/소자_재고관리대장/OE/OPS-F-P-VP104-PBLTFN1-REN12.0.pdf | S29: 2.5 Gbps 980nm VCSEL Tx/ GaAs PIN TIA Rx BIDI
A30: =ROW()-6 -> 24 | B30: PBLTFN1-RGN1 | C30: Optowell | D30: BOSA | E30: 1 | F30: 2.5 Gbps/ch | G30: BOSA | I30: VP0815-W101 | J30: 42433 | K30: OLD OE #1 | L30: 5 | M30: =IF(L30="","",IF(L30<=10,0,IF(L30<=50,3,IF(L30<=100,10,IF(L30<=1000,20,100))))) -> 0 | N30: =IF(B30="","",IF(L30<=0,"발주필요",IF(L30<M30,"부족","정상"))) -> 정상 | O30: 연구개발 | Q30: 인쇄물 | S30: 2.5 Gbps 980nm VCSEL Tx/ InGaAs PIN TIA Rx BIDI
A31: =ROW()-6 -> 25 | B31: PD sample | C31: Optowell | D31: PIN PD | E31: 1 | F31: 16 Gbps/ch | G31: Bare Die | I31: PC16-048A-C0060 | K31: OLD OE #2 | L31: 50 | M31: =IF(L31="","",IF(L31<=10,0,IF(L31<=50,3,IF(L31<=100,10,IF(L31<=1000,20,100))))) -> 3 | N31: =IF(B31="","",IF(L31<=0,"발주필요",IF(L31<M31,"부족","정상"))) -> 정상 | O31: 연구개발 | S31: 850nm PIN PD
A32: =ROW()-6 -> 26 | B32: PM67-F1P0U | C32: Optowell | D32: VCSEL / LD | E32: 1 | G32: TO-Can | H32: Flange Ø5.35 mm / Can Ø4.7 × H3.75 mm | I32: VT1216-W148/170811 | J32: 42964 | K32: OLD OE #1 | L32: 3 | M32: =IF(L32="","",IF(L32<=10,0,IF(L32<=50,3,IF(L32<=100,10,IF(L32<=1000,20,100))))) -> 0 | N32: =IF(B32="","",IF(L32<=0,"발주필요",IF(L32<M32,"부족","정상"))) -> 정상 | O32: 연구개발 | Q32: NAS:/[] 연구소/1. 개발/소자_재고관리대장/OE/OPS-F-P-V301-PM67-F1P0U1.0.pdf | S32: 670nm VCSEL TO-46 Can Package 3pin
A33: =ROW()-6 -> 27 | B33: PM78-F1P1F-AC | C33: Optowell | D33: VCSEL / LD | E33: 1 | F33: 4.25 Gbps/ch | G33: TO-Can | H33: Flange Ø5.4 mm / Can Ø4.72 × H2.95 mm / Lead 13.5 ± 1.0 mm | I33: TMPT1611-134/170811 | J33: 42964 | K33: OLD OE #1 | L33: 3 | M33: =IF(L33="","",IF(L33<=10,0,IF(L33<=50,3,IF(L33<=100,10,IF(L33<=1000,20,100))))) -> 0 | N33: =IF(B33="","",IF(L33<=0,"발주필요",IF(L33<M33,"부족","정상"))) -> 정상 | O33: 연구개발 | Q33: 인쇄물 | S33: 780nm 4.25Gbps VCSEL TO-46Can package
A34: =ROW()-6 -> 28 | B34: PM85-B1P1F-AC | C34: Optowell | D34: VCSEL / LD | E34: 1 | I34: SPPT1409-050 | K34: OLD OE #1 | L34: 2 | M34: =IF(L34="","",IF(L34<=10,0,IF(L34<=50,3,IF(L34<=100,10,IF(L34<=1000,20,100))))) -> 0 | N34: =IF(B34="","",IF(L34<=0,"발주필요",IF(L34<M34,"부족","정상"))) -> 정상 | O34: 연구개발
A35: =ROW()-6 -> 29 | B35: PR65-F1P0T | C35: Optowell | D35: LED | E35: 1 | F35: 155 Mbps/ch | G35: TO-Can | H35: Flange Ø5.35 mm / Can Ø4.7 × H3.6 mm / Lead 13.5 mm | I35: RT0217-W038/170811 | J35: 42964 | K35: OLD OE #1 | L35: 3 | M35: =IF(L35="","",IF(L35<=10,0,IF(L35<=50,3,IF(L35<=100,10,IF(L35<=1000,20,100))))) -> 0 | N35: =IF(B35="","",IF(L35<=0,"발주필요",IF(L35<M35,"부족","정상"))) -> 정상 | O35: 연구개발 | Q35: NAS:/[] 연구소/1. 개발/소자_재고관리대장/OE/OPS-F-P-R102-PR65-F1P0T2.0.pdf | S35: 650nm RCLED TO-18CAN Package
A36: =ROW()-6 -> 30 | B36: RP85-LCT1S | C36: Optowell | D36: PIN PD | E36: 1 | F36: 1.25 Gbps/ch | G36: ROSA | K36: OLD OE #1 | L36: 1 | M36: =IF(L36="","",IF(L36<=10,0,IF(L36<=50,3,IF(L36<=100,10,IF(L36<=1000,20,100))))) -> 0 | N36: =IF(B36="","",IF(L36<=0,"발주필요",IF(L36<M36,"부족","정상"))) -> 정상 | O36: 연구개발 | S36: 850nm 1.25G LC ROSA
A37: =ROW()-6 -> 31 | B37: SH85-2S001 | C37: Optowell | D37: VCSEL / LD | E37: 1 | G37: Bare Die | H37: 300umx300umx200um | I37: VC2502-016-D1003#1Q4 | K37: NEW OE | L37: 1050 | M37: =IF(L37="","",IF(L37<=10,0,IF(L37<=50,3,IF(L37<=100,10,IF(L37<=1000,20,100))))) -> 100 | N37: =IF(B37="","",IF(L37<=0,"발주필요",IF(L37<M37,"부족","정상"))) -> 정상 | O37: 연구개발 | Q37: NAS:/[] 연구소/1. 개발/소자_재고관리대장/OE/[10mW]SPEC _ SH85-2S001 (Rev3.0) _ 24.10.18.pdf | S37: 10mW 850nm VCSEL
A38: =ROW()-6 -> 32 | B38: SM78-3N001 | C38: Optowell | D38: VCSEL / LD | E38: 1 | F38: 1.25 Gbps/ch | G38: Bare Die | H38: 250umx250umx200um | I38: VC1402-007-A4449#1Q2 | K38: OLD OE #1 | L38: 110 | M38: =IF(L38="","",IF(L38<=10,0,IF(L38<=50,3,IF(L38<=100,10,IF(L38<=1000,20,100))))) -> 20 | N38: =IF(B38="","",IF(L38<=0,"발주필요",IF(L38<M38,"부족","정상"))) -> 정상 | O38: 연구개발 | Q38: 인쇄물 | S38: 780nm VCSEL
A39: =ROW()-6 -> 33 | B39: SM85-1AH001 | C39: Optowell | D39: VCSEL / LD | E39: 1 | F39: 14 Gbps/ch | G39: Bare Die | H39: 230um x 230um x 150um | I39: VC1911-188-K0135#10Q4 | K39: NEW OE | L39: 2099 | M39: =IF(L39="","",IF(L39<=10,0,IF(L39<=50,3,IF(L39<=100,10,IF(L39<=1000,20,100))))) -> 100 | N39: =IF(B39="","",IF(L39<=0,"발주필요",IF(L39<M39,"부족","정상"))) -> 정상 | O39: 연구개발 | Q39: NAS:/[] 연구소/1. 개발/소자_재고관리대장/OE/[VCSEL_3mW] 14G SPEC_SM85-1AH001_Rev_3.0.pdf | R39: NAS:/[] 연구소/1. 개발/소자_재고관리대장/OE/240705 SM85-1UH001W & SM85-1AH001W 온도별 bandwidth 평가 Data (2).pdf | S39: 3mW 850nm 14Gbps VCSEL
A40: =ROW()-6 -> 34 | B40: SM85-1AH001 | C40: Optowell | D40: VCSEL / LD | E40: 1 | F40: 14 Gbps/ch | G40: Bare Die | H40: 230um x 230um x 150um | I40: VC1903-012-A6353#1Q1 | K40: NEW OE | L40: 6228 | M40: =IF(L40="","",IF(L40<=10,0,IF(L40<=50,3,IF(L40<=100,10,IF(L40<=1000,20,100))))) -> 100 | N40: =IF(B40="","",IF(L40<=0,"발주필요",IF(L40<M40,"부족","정상"))) -> 정상 | O40: 연구개발 | Q40: NAS:/[] 연구소/1. 개발/소자_재고관리대장/OE/[VCSEL_3mW] 14G SPEC_SM85-1AH001_Rev_3.0.pdf | R40: NAS:/[] 연구소/1. 개발/소자_재고관리대장/OE/240705 SM85-1UH001W & SM85-1AH001W 온도별 bandwidth 평가 Data (2).pdf | S40: 3mW 850nm 14Gbps VCSEL
A41: =ROW()-6 -> 35 | B41: SM85-1H001 | C41: Optowell | D41: VCSEL / LD | E41: 1 | F41: 10 Gbps/ch | G41: Bare Die | H41: 300umx300umx200um | I41: VC1305-164-A4102#1Q2 | K41: OLD OE #2 | L41: 300 | M41: =IF(L41="","",IF(L41<=10,0,IF(L41<=50,3,IF(L41<=100,10,IF(L41<=1000,20,100))))) -> 20 | N41: =IF(B41="","",IF(L41<=0,"발주필요",IF(L41<M41,"부족","정상"))) -> 정상 | O41: 연구개발 | Q41: 인쇄물 | R41: NAS:/[] 연구소/1. 개발/소자_재고관리대장/OE/DVT Technical Reports (SM85-1H001).pdf | S41: 10Gbps 850nm VCSEL
A42: =ROW()-6 -> 36 | B42: SM85-1UH001 | C42: Optowell | D42: VCSEL / LD | E42: 1 | F42: 25 Gbps/ch | G42: Bare Die | H42: 230um x 230um x 150um | I42: VC17-25G-18 | K42: NEW OE | L42: 70 | M42: =IF(L42="","",IF(L42<=10,0,IF(L42<=50,3,IF(L42<=100,10,IF(L42<=1000,20,100))))) -> 10 | N42: =IF(B42="","",IF(L42<=0,"발주필요",IF(L42<M42,"부족","정상"))) -> 정상 | O42: 연구개발 | Q42: NAS:/[] 연구소/1. 개발/소자_재고관리대장/OE/[VCSEL 3.5mW] 25G SPEC SHEET SM85-1UH001 Rev 1.0.pdf | S42: 5.2mW 850nm 25Gbps VCSEL
A43: =ROW()-6 -> 37 | B43: SM85-1UH001 | C43: Optowell | D43: VCSEL / LD | E43: 1 | F43: 25 Gbps/ch | G43: Bare Die | H43: 230um x 230um x 150um | I43: VC16-25G-33 | K43: OLD OE #1 | L43: 70 | M43: =IF(L43="","",IF(L43<=10,0,IF(L43<=50,3,IF(L43<=100,10,IF(L43<=1000,20,100))))) -> 10 | N43: =IF(B43="","",IF(L43<=0,"발주필요",IF(L43<M43,"부족","정상"))) -> 정상 | O43: 연구개발 | Q43: NAS:/[] 연구소/1. 개발/소자_재고관리대장/OE/[VCSEL 3.5mW] 25G SPEC SHEET SM85-1UH001 Rev 1.0.pdf | S43: 5.2mW 850nm 25Gbps VCSEL
A44: =ROW()-6 -> 38 | B44: SM85-1UH001_FT | C44: Optowell | D44: VCSEL / LD | E44: 1 | G44: Bare Die | I44: TMS24-010#13 | K44: NEW OE | L44: 46 | M44: =IF(L44="","",IF(L44<=10,0,IF(L44<=50,3,IF(L44<=100,10,IF(L44<=1000,20,100))))) -> 3 | N44: =IF(B44="","",IF(L44<=0,"발주필요",IF(L44<M44,"부족","정상"))) -> 정상 | O44: 연구개발 | Q44: NAS:/[] 연구소/1. 개발/소자_재고관리대장/OE/[VCSEL 5.2mW] 12G spec sheet_SM85-1UH001_TF_rev 1.0_24.01.07.pdf | S44: 5.5mW 850nm VCSEL
A45: =ROW()-6 -> 39 | B45: SM85-1UH001W | C45: Optowell | D45: VCSEL / LD | E45: 1 | F45: 25 Gbps/ch | G45: Bare Die | H45: 230um x 230um x 150um | I45: VC2211-147-OI002#5Q1 | J45: 45554 | K45: NEW OE | L45: 109 | M45: =IF(L45="","",IF(L45<=10,0,IF(L45<=50,3,IF(L45<=100,10,IF(L45<=1000,20,100))))) -> 20 | N45: =IF(B45="","",IF(L45<=0,"발주필요",IF(L45<M45,"부족","정상"))) -> 정상 | O45: 연구개발 | R45: NAS:/[] 연구소/1. 개발/소자_재고관리대장/OE/230316 DVT Technical Report for SM85-1UH001W.PDF | S45: 850nm 25Gbps VCSEL
A46: =ROW()-6 -> 40 | B46: SM85-3AH001 | C46: Optowell | D46: VCSEL / LD | E46: 1 | G46: Bare Die | I46: VC18-045-A5139#1Q4_#1 | K46: OLD OE #2 | L46: 900 | M46: =IF(L46="","",IF(L46<=10,0,IF(L46<=50,3,IF(L46<=100,10,IF(L46<=1000,20,100))))) -> 20 | N46: =IF(B46="","",IF(L46<=0,"발주필요",IF(L46<M46,"부족","정상"))) -> 정상 | O46: 연구개발 | S46: 850nm VCSEL Chip
A47: =ROW()-6 -> 41 | B47: SM85-3AH001_pre. | C47: Optowell | D47: VCSEL / LD | E47: 1 | G47: Bare Die | I47: VC17-136T-A5833 | K47: OLD OE #2 | L47: 100 | M47: =IF(L47="","",IF(L47<=10,0,IF(L47<=50,3,IF(L47<=100,10,IF(L47<=1000,20,100))))) -> 10 | N47: =IF(B47="","",IF(L47<=0,"발주필요",IF(L47<M47,"부족","정상"))) -> 정상 | O47: 연구개발 | S47: 850nm VCSEL Chip
A48: =ROW()-6 -> 42 | B48: SP85-0H001 | C48: Optowell | D48: PIN PD | E48: 1 | F48: 10 Gbps/ch | G48: Bare Die | H48: 390umx310umx200um | I48: PC1305-169-B1991#3Q2 | K48: OLD OE #2 | L48: 300 | M48: =IF(L48="","",IF(L48<=10,0,IF(L48<=50,3,IF(L48<=100,10,IF(L48<=1000,20,100))))) -> 20 | N48: =IF(B48="","",IF(L48<=0,"발주필요",IF(L48<M48,"부족","정상"))) -> 정상 | O48: 연구개발 | Q48: 인쇄물 | R48: NAS:/[] 연구소/1. 개발/소자_재고관리대장/OE/DVT Technical Reports (SP85-0H001).pdf | S48: 10Gbps GaAs PIN-PD
A49: =ROW()-6 -> 43 | B49: SP85-1AH001 | C49: Optowell | D49: PIN PD | E49: 1 | F49: 14 Gbps/ch | G49: Bare Die | H49: 230um x 230um x 150um | I49: PC1904-122-C0713#2Q1 | K49: NEW OE | L49: 2100 | M49: =IF(L49="","",IF(L49<=10,0,IF(L49<=50,3,IF(L49<=100,10,IF(L49<=1000,20,100))))) -> 100 | N49: =IF(B49="","",IF(L49<=0,"발주필요",IF(L49<M49,"부족","정상"))) -> 정상 | O49: 연구개발 | Q49: NAS:/[] 연구소/1. 개발/소자_재고관리대장/OE/[850 PD] 14G spec_sheet_SP85-1AH001_Rev_3.0_22.11.11.pdf | R49: NAS:/[] 연구소/1. 개발/소자_재고관리대장/OE/220830 DVT Technical Report for SP85-1AH001.pdf | S49: 850nm 14Gbps PD
A50: =ROW()-6 -> 44 | B50: SP85-1AH001 | C50: Optowell | D50: PIN PD | E50: 1 | F50: 14 Gbps/ch | G50: Bare Die | H50: 230um x 230um x 150um | I50: PC17-163T-C0084 | K50: OLD OE #2 | L50: 100 | M50: =IF(L50="","",IF(L50<=10,0,IF(L50<=50,3,IF(L50<=100,10,IF(L50<=1000,20,100))))) -> 10 | N50: =IF(B50="","",IF(L50<=0,"발주필요",IF(L50<M50,"부족","정상"))) -> 정상 | O50: 연구개발 | Q50: NAS:/[] 연구소/1. 개발/소자_재고관리대장/OE/[850 PD] 14G spec_sheet_SP85-1AH001_Rev_3.0_22.11.11.pdf | R50: NAS:/[] 연구소/1. 개발/소자_재고관리대장/OE/220830 DVT Technical Report for SP85-1AH001.pdf | S50: 850nm 14Gbps PD
A51: =ROW()-6 -> 45 | B51: SP85-1UH001 | C51: Optowell | D51: PIN PD | E51: 1 | F51: 25 Gbps/ch | G51: Bare Die | H51: 230um x 230um x 150um | I51: PC2212-157-C0816#3Q1 | J51: 45554 | K51: NEW OE | L51: 120 | M51: =IF(L51="","",IF(L51<=10,0,IF(L51<=50,3,IF(L51<=100,10,IF(L51<=1000,20,100))))) -> 20 | N51: =IF(B51="","",IF(L51<=0,"발주필요",IF(L51<M51,"부족","정상"))) -> 정상 | O51: 연구개발 | Q51: NAS:/[] 연구소/1. 개발/소자_재고관리대장/OE/[850 PD] 25G SPEC SHEET SP85-1UH001 Rev 1.0.pdf | R51: NAS:/[] 연구소/1. 개발/소자_재고관리대장/OE/220905 DVT Technical Report for SP85-1UH001.pdf | S51: 850nm 25Gbps GaAs PIN-PD
A52: =ROW()-6 -> 46 | B52: SP85-2F001 | C52: Optowell | D52: PIN PD | E52: 1 | F52: 4.25 Gbps/ch | G52: Bare Die | H52: 270umx300umx200um | I52: PC1110-708-B1668#2Q3 | K52: OLD OE #2 | L52: 100 | M52: =IF(L52="","",IF(L52<=10,0,IF(L52<=50,3,IF(L52<=100,10,IF(L52<=1000,20,100))))) -> 10 | N52: =IF(B52="","",IF(L52<=0,"발주필요",IF(L52<M52,"부족","정상"))) -> 정상 | O52: 연구개발 | Q52: 인쇄물 | S52: 3.125/4.25Gbps GaAs PIN-PD
A53: =ROW()-6 -> 47 | B53: TP85-LCP1H-FA | C53: Optowell | D53: VCSEL / LD | E53: 1 | F53: 10 Gbps/ch | G53: TOSA | I53: VC0114-W006/1107 | J53: 41949 | K53: OLD OE #1 | L53: 2 | M53: =IF(L53="","",IF(L53<=10,0,IF(L53<=50,3,IF(L53<=100,10,IF(L53<=1000,20,100))))) -> 0 | N53: =IF(B53="","",IF(L53<=0,"발주필요",IF(L53<M53,"부족","정상"))) -> 정상 | O53: 연구개발 | S53: 850nm 10Gbps LC TOSA
A54: =ROW()-6 -> 48 | B54: TP85-LCT1S | C54: Optowell | D54: VCSEL / LD | E54: 1 | F54: 1.25 Gbps/ch | G54: TOSA | K54: OLD OE #1 | L54: 1 | M54: =IF(L54="","",IF(L54<=10,0,IF(L54<=50,3,IF(L54<=100,10,IF(L54<=1000,20,100))))) -> 0 | N54: =IF(B54="","",IF(L54<=0,"발주필요",IF(L54<M54,"부족","정상"))) -> 정상 | O54: 연구개발 | S54: 850nm 1.25G LC TOSA
A55: =ROW()-6 -> 49 | B55: VCSEL sample | C55: Optowell | D55: VCSEL / LD | E55: 1 | F55: 16 Gbps/ch | G55: Bare Die | H55: 230um x 230um x 150um | I55: VC16-031T-A5499 | K55: OLD OE #2 | L55: 50 | M55: =IF(L55="","",IF(L55<=10,0,IF(L55<=50,3,IF(L55<=100,10,IF(L55<=1000,20,100))))) -> 3 | N55: =IF(B55="","",IF(L55<=0,"발주필요",IF(L55<M55,"부족","정상"))) -> 정상 | O55: 연구개발 | S55: 16Gbps 850nm VCSEL
A56: =ROW()-6 -> 50 | B56: M03002-13 | C56: MACOM | D56: TIA | E56: 1 | F56: 28 Gbps/ch | G56: Bare Die | H56: 1539 um x 1270 um x305um | I56: M64187.1;14/1947 | K56: DIC | L56: 25 | N56: =IF(B56="","",IF(L56<=0,"발주필요",IF(L56<M56,"부족","정상"))) | O56: 연구개발 | Q56: NAS:/[] 연구소/1. 개발/소자_재고관리대장/DIC/Makus, M03002_V5.pdf | S56: 28Gbps TIA, CDR x
A57: =ROW()-6 -> 51 | B57: HXR6104-DNT | C57: GigPeak | D57: TIA/LA 통합형 | E57: 4 | F57: 16 Gbps/ch | G57: Bare Die | H57: 2.095 mm × 1.720 mm x 250um | I57: 5AOUB00000 | K57: DIC | L57: 10 | N57: =IF(B57="","",IF(L57<=0,"발주필요",IF(L57<M57,"부족","정상"))) | O57: 연구개발 | Q57: NAS:/[] 연구소/1. 개발/소자_재고관리대장/DIC/HXR6104-903-00 DS r01.pdf | S57: CDR x
A58: =ROW()-6 -> 52 | B58: HXR6104-DNT | C58: GigPeak | D58: TIA/LA 통합형 | E58: 4 | F58: 16 Gbps/ch | G58: Bare Die | H58: 2.095 mm × 1.720 mm x 250um | I58: 5NF9B00000 | K58: DIC | L58: 10 | N58: =IF(B58="","",IF(L58<=0,"발주필요",IF(L58<M58,"부족","정상"))) | O58: 연구개발 | Q58: NAS:/[] 연구소/1. 개발/소자_재고관리대장/DIC/HXR6104-903-00 DS r01.pdf | S58: CDR x
A59: =ROW()-6 -> 53 | B59: SL86723-BWE | C59: Siliconline | D59: Driver IC | E59: 4 | F59: 10 Gbps/ch | G59: Bare Die | I59: 10U19122310000000771/1940 | J59: 43577 | K59: DIC | L59: 10 | N59: =IF(B59="","",IF(L59<=0,"발주필요",IF(L59<M59,"부족","정상"))) | O59: 연구개발 | S59: For DisplayPort 1.4, programmable input EQ
A60: =ROW()-6 -> 54 | B60: SL86713-BWE | C60: Siliconline | D60: Driver IC | E60: 4 | F60: 10 Gbps/ch | G60: Bare Die | I60: 10U19122310000000771/1940 | K60: DIC | L60: 10 | N60: =IF(B60="","",IF(L60<=0,"발주필요",IF(L60<M60,"부족","정상"))) | O60: 연구개발 | S60: For DisplayPort 1.4
A61: =ROW()-6 -> 55 | B61: SL86050-BW0-03N0 | C61: Siliconline | D61: 광 Transceiver IC | E61: 1 | F61: 10 Gbps/ch | G61: Bare Die | H61: 0.740 × 1.290 x 0.185 mm | I61: IEU601N001.004/1602 | K61: DIC | L61: 600 | N61: =IF(B61="","",IF(L61<=0,"발주필요",IF(L61<M61,"부족","정상"))) | O61: 연구개발 | Q61: NAS:/[] 연구소/1. 개발/소자_재고관리대장/DIC/SL86050_v0_00_03.pdf | S61: VCSEL driver and TIA / LA integrated into one IC (Tx 1ch+ Rx 1ch)
A62: =ROW()-6 -> 56 | B62: SL86051-BW0-02R0 | C62: Siliconline | D62: 광 Transceiver IC | E62: 1 | F62: 10 Gbps/ch | G62: Bare Die | H62: 0.840×1.390 x 0.185 mm | I62: G6H878-05D2/1934 | K62: DIC | L62: 236 | N62: =IF(B62="","",IF(L62<=0,"발주필요",IF(L62<M62,"부족","정상"))) | O62: 연구개발 | Q62: NAS:/[] 연구소/1. 개발/소자_재고관리대장/DIC/SL86051 v01_00_00 (1).pdf | S62: VCSEL driver and TIA / LA integrated into one IC (Tx 1ch+ Rx 1ch)
A63: =ROW()-6 -> 57 | B63: SL82711-BWE | C63: Siliconline | D63: TIA/LA 통합형 | E63: 4 | F63: 16 Gbps/ch | G63: Bare Die | H63: 1.190×1.590x0.180 mm | I63: 10U20062610000000099/1953 | K63: DIC | L63: 10 | N63: =IF(B63="","",IF(L63<=0,"발주필요",IF(L63<M63,"부족","정상"))) | O63: 연구개발 | Q63: NAS:/[] 연구소/1. 개발/소자_재고관리대장/DIC/SL82711_v0_00_06 (1).pdf | S63: CDR x
A64: =ROW()-6 -> 58 | B64: SL82721-BWE | C64: Siliconline | D64: Driver IC | E64: 4 | F64: 16 Gbps/ch | G64: Bare Die | H64: 1.190×1.590x0.180 mm | I64: 10U20062610000000100/1953 | K64: DIC | L64: 10 | N64: =IF(B64="","",IF(L64<=0,"발주필요",IF(L64<M64,"부족","정상"))) | O64: 연구개발 | Q64: NAS:/[] 연구소/1. 개발/소자_재고관리대장/DIC/SL82721_v00_00_06 (1).pdf | S64: CDR x
A65: =ROW()-6 -> 59 | B65: SL86051-BW0 | C65: Siliconline | D65: 광 Transceiver IC | E65: 1 | F65: 10 Gbps/ch | G65: Bare Die | H65: 0.840×1.390 x 0.185 mm | I65: 10U20062610000000101/1932 | K65: DIC | L65: 20 | N65: =IF(B65="","",IF(L65<=0,"발주필요",IF(L65<M65,"부족","정상"))) | O65: 연구개발 | Q65: NAS:/[] 연구소/1. 개발/소자_재고관리대장/DIC/SL86051 v01_00_00 (1).pdf | S65: VCSEL driver and TIA / LA integrated into one IC (Tx 1ch+ Rx 1ch)
A66: =ROW()-6 -> 60 | B66: M03002-13 | C66: MACOM | D66: TIA | E66: 1 | F66: 28 Gbps/ch | G66: Bare Die | H66: 1539 um x 1270 um x305um | I66: M64632.1;10/1943 | K66: 10F 선반 | L66: 50 | N66: =IF(B66="","",IF(L66<=0,"발주필요",IF(L66<M66,"부족","정상"))) | O66: 연구개발 | Q66: NAS:/[] 연구소/1. 개발/소자_재고관리대장/DIC/Makus, M03002_V5.pdf | S66: CDR x, 미개봉 박스
A67: =ROW()-6 -> 61 | B67: M03002-13 | C67: MACOM | D67: TIA | E67: 1 | F67: 28 Gbps/ch | G67: Bare Die | H67: 1539 um x 1270 um x305um | I67: M65738.1;1/2017 | K67: 10F 선반 | L67: 75 | N67: =IF(B67="","",IF(L67<=0,"발주필요",IF(L67<M67,"부족","정상"))) | O67: 연구개발 | Q67: NAS:/[] 연구소/1. 개발/소자_재고관리대장/DIC/Makus, M03002_V5.pdf | S67: CDR x, 미개봉 박스
A68: =ROW()-6 -> 62 | B68: M03002-13 | C68: MACOM | D68: TIA | E68: 1 | F68: 28 Gbps/ch | G68: Bare Die | H68: 1539 um x 1270 um x305um | I68: M65738.1;13/2016 | K68: 10F 선반 | L68: 150 | N68: =IF(B68="","",IF(L68<=0,"발주필요",IF(L68<M68,"부족","정상"))) | O68: 연구개발 | Q68: NAS:/[] 연구소/1. 개발/소자_재고관리대장/DIC/Makus, M03002_V5.pdf | S68: CDR x, 미개봉 박스
A69: =ROW()-6 -> 63 | B69: M03002-13 | C69: MACOM | D69: TIA | E69: 1 | F69: 28 Gbps/ch | G69: Bare Die | H69: 1539 um x 1270 um x305um | I69: M63475.1;8/1939 | K69: 10F 선반 | L69: 75 | N69: =IF(B69="","",IF(L69<=0,"발주필요",IF(L69<M69,"부족","정상"))) | O69: 연구개발 | Q69: NAS:/[] 연구소/1. 개발/소자_재고관리대장/DIC/Makus, M03002_V5.pdf | S69: CDR x, 미개봉 박스
A70: =ROW()-6 -> 64 | B70: M03002-13 | C70: MACOM | D70: TIA | E70: 1 | F70: 28 Gbps/ch | G70: Bare Die | H70: 1539 um x 1270 um x305um | I70: M63475.1;5/1939 | K70: 10F 선반 | L70: 50 | N70: =IF(B70="","",IF(L70<=0,"발주필요",IF(L70<M70,"부족","정상"))) | O70: 연구개발 | Q70: NAS:/[] 연구소/1. 개발/소자_재고관리대장/DIC/Makus, M03002_V5.pdf | S70: CDR x, 미개봉 박스
A71: =ROW()-6 -> 65 | B71: M03002-13 | C71: MACOM | D71: TIA | E71: 1 | F71: 28 Gbps/ch | G71: Bare Die | H71: 1539 um x 1270 um x305um | I71: M63475.1;25/1939 | K71: 10F 선반 | L71: 50 | N71: =IF(B71="","",IF(L71<=0,"발주필요",IF(L71<M71,"부족","정상"))) | O71: 연구개발 | Q71: NAS:/[] 연구소/1. 개발/소자_재고관리대장/DIC/Makus, M03002_V5.pdf | S71: CDR x, 미개봉 박스
A72: =ROW()-6 -> 66 | B72: M03002-13 | C72: MACOM | D72: TIA | E72: 1 | F72: 28 Gbps/ch | G72: Bare Die | H72: 1539 um x 1270 um x305um | I72: M65738.1;12/2017 | K72: 10F 선반 | L72: 125 | N72: =IF(B72="","",IF(L72<=0,"발주필요",IF(L72<M72,"부족","정상"))) | O72: 연구개발 | Q72: NAS:/[] 연구소/1. 개발/소자_재고관리대장/DIC/Makus, M03002_V5.pdf | S72: CDR x
... A74: =ROW()-6 -> 68 | B74: M03002-13 | C74: MACOM | D74: TIA | E74: 1 | F74: 28 Gbps/ch | G74: Bare Die | H74: 1539 um x 1270 um x305um | I74: M65738.1;12/2017 | K74: 10F 선반 | L74: 75 | N74: =IF(B74="","",IF(L74<=0,"발주필요",IF(L74<M74,"부족","정상"))) | O74: 연구개발 | Q74: NAS:/[] 연구소/1. 개발/소자_재고관리대장/DIC/Makus, M03002_V5.pdf | S74: CDR x
A75: =ROW()-6 -> 69 | B75: HXR8204-DNT | C75: GigPeak | D75: TIA/LA 통합형 | E75: 4 | F75: 28 Gbps/ch | G75: Bare Die | H75: 2.025 × 1.650 mm | I75: 5A8CB00000 | K75: DIC | L75: 10 | N75: =IF(B75="","",IF(L75<=0,"발주필요",IF(L75<M75,"부족","정상"))) | O75: 연구개발 | Q75: NAS:/[] 연구소/1. 개발/소자_재고관리대장/DIC/HXR8204.PDF | R75: NAS:/[] 연구소/1. 개발/소자_재고관리대장/DIC/HXR8204_DVT.PDF | S75: TIA+PA
A76: =ROW()-6 -> 70 | B76: HXT8204-DNT | C76: GigPeak | D76: Driver IC | E76: 4 | F76: 28 Gbps/ch | G76: Bare Die | H76: 1.950 × 1.575 mm | I76: 5A8CB00000 | K76: DIC | L76: 10 | N76: =IF(B76="","",IF(L76<=0,"발주필요",IF(L76<M76,"부족","정상"))) | O76: 연구개발 | Q76: NAS:/[] 연구소/1. 개발/소자_재고관리대장/DIC/HXT8204.PDF | R76: NAS:/[] 연구소/1. 개발/소자_재고관리대장/DIC/HXT8204-800-00 DVT r01.pdf | S76: CDR X
A77: =ROW()-6 -> 71 | B77: HXR6101-DNT | C77: GigPeak | D77: TIA/LA 통합형 | E77: 1 | F77: 16 Gbps/ch | G77: Bare Die | H77: 0.750 × 0.750 mm | I77: 4MUPB00000 | K77: DIC | L77: 10 | N77: =IF(B77="","",IF(L77<=0,"발주필요",IF(L77<M77,"부족","정상"))) | O77: 연구개발 | Q77: NAS:/[] 연구소/1. 개발/소자_재고관리대장/DIC/HXR6101.PDF | S77: CDR X
A78: =ROW()-6 -> 72 | B78: HXT6101-DNT | C78: GigPeak | D78: Driver IC | E78: 1 | F78: 16 Gbps/ch | G78: Bare Die | I78: 4MUPB00000 | K78: DIC | L78: 12 | N78: =IF(B78="","",IF(L78<=0,"발주필요",IF(L78<M78,"부족","정상"))) | O78: 연구개발 | Q78: NAS:/[] 연구소/1. 개발/소자_재고관리대장/DIC/HXT6101.PDF | S78: CDR X
A79: =ROW()-6 -> 73 | B79: SL86050-BW0 | C79: Siliconline | D79: 광 Transceiver IC | E79: 1 | F79: 10 Gbps/ch | G79: Bare Die | H79: 0.740 × 1.290 x 0.185 mm | I79: 07/04/2017 | K79: OLD OE #1 | L79: 20 | N79: =IF(B79="","",IF(L79<=0,"발주필요",IF(L79<M79,"부족","정상"))) | O79: 연구개발 | Q79: NAS:/[] 연구소/1. 개발/소자_재고관리대장/DIC/SL86050_v0_00_03.pdf | S79: VCSEL driver and TIA / LA integrated into one IC (Tx 1ch+ Rx 1ch)
A80: =ROW()-6 -> 74 | B80: SL86050-BW0 | C80: Siliconline | D80: 광 Transceiver IC | E80: 1 | F80: 10 Gbps/ch | G80: Bare Die | H80: 0.740 × 1.290 x 0.185 mm | I80: 02/22/2016 | K80: OLD OE #1 | L80: 8 | N80: =IF(B80="","",IF(L80<=0,"발주필요",IF(L80<M80,"부족","정상"))) | O80: 연구개발 | Q80: NAS:/[] 연구소/1. 개발/소자_재고관리대장/DIC/SL86050_v0_00_03.pdf | S80: VCSEL driver and TIA / LA integrated into one IC (Tx 1ch+ Rx 1ch)
A81: =ROW()-6 -> 75 | B81: SL86050-BWE | C81: Siliconline | D81: 광 Transceiver IC | E81: 1 | F81: 10 Gbps/ch | G81: Bare Die | H81: 0.740 × 1.290 x 0.185 mm | I81: 10/14/2015 | K81: OLD OE #1 | L81: 3 | N81: =IF(B81="","",IF(L81<=0,"발주필요",IF(L81<M81,"부족","정상"))) | O81: 연구개발 | Q81: NAS:/[] 연구소/1. 개발/소자_재고관리대장/DIC/SL86050_v0_00_03.pdf
A82: =ROW()-6 -> 76 | B82: SL86050-BWE | C82: Siliconline | D82: 광 Transceiver IC | E82: 1 | F82: 10 Gbps/ch | G82: Bare Die | H82: 0.740 × 1.290 x 0.185 mm | I82: 09/03/2015 | K82: OLD OE #1 | L82: 2 | N82: =IF(B82="","",IF(L82<=0,"발주필요",IF(L82<M82,"부족","정상"))) | O82: 연구개발 | Q82: NAS:/[] 연구소/1. 개발/소자_재고관리대장/DIC/SL86050_v0_00_03.pdf
A83: =ROW()-6 -> 77 | B83: SL82722 | C83: Siliconline | D83: Driver IC | E83: 4 | F83: 12.5 Gbps/ch | G83: Bare Die | H83: 1.3 x 0.9 x 0.185mm | I83: 07/22/2014 | K83: OLD OE #1 | L83: 10 | N83: =IF(B83="","",IF(L83<=0,"발주필요",IF(L83<M83,"부족","정상"))) | O83: 연구개발 | Q83: NAS:/[] 연구소/1. 개발/소자_재고관리대장/DIC/SL82722 v0_00_05.pdf
A84: =ROW()-6 -> 78 | B84: SL82722-BWE-02N0 | C84: Siliconline | D84: Driver IC | E84: 4 | F84: 12.5 Gbps/ch | G84: Bare Die | H84: 1.3 x 0.9 x 0.185mm | I84: 11/29/2016 | K84: OLD OE #1 | L84: 13 | N84: =IF(B84="","",IF(L84<=0,"발주필요",IF(L84<M84,"부족","정상"))) | O84: 연구개발 | Q84: NAS:/[] 연구소/1. 개발/소자_재고관리대장/DIC/SL82722 v0_00_05.pdf
A85: =ROW()-6 -> 79 | B85: SL82712 | C85: Siliconline | D85: TIA/LA 통합형 | E85: 4 | F85: 12.5 Gbps/ch | G85: Bare Die | H85: 1.3 x 0.9 x 0.185mm | I85: 07/22/2014 | K85: OLD OE #1 | L85: 10 | N85: =IF(B85="","",IF(L85<=0,"발주필요",IF(L85<M85,"부족","정상"))) | O85: 연구개발 | Q85: NAS:/[] 연구소/1. 개발/소자_재고관리대장/DIC/SL82712 v0_datasheet.pdf
A86: =ROW()-6 -> 80 | B86: SL82712-BWE | C86: Siliconline | D86: TIA/LA 통합형 | E86: 4 | F86: 12.5 Gbps/ch | G86: Bare Die | H86: 1.3 x 0.9 x 0.185mm | I86: 02/22/2016 | K86: OLD OE #1 | L86: 3 | N86: =IF(B86="","",IF(L86<=0,"발주필요",IF(L86<M86,"부족","정상"))) | O86: 연구개발 | Q86: NAS:/[] 연구소/1. 개발/소자_재고관리대장/DIC/SL82712 v0_datasheet.pdf
A87: =ROW()-6 -> 81 | B87: SL82712-BWE-02N0 | C87: Siliconline | D87: TIA/LA 통합형 | E87: 4 | F87: 12.5 Gbps/ch | G87: Bare Die | H87: 1.3 x 0.9 x 0.185mm | I87: 11/29/2016 | K87: OLD OE #1 | L87: 13 | N87: =IF(B87="","",IF(L87<=0,"발주필요",IF(L87<M87,"부족","정상"))) | O87: 연구개발 | Q87: NAS:/[] 연구소/1. 개발/소자_재고관리대장/DIC/SL82712 v0_datasheet.pdf
A88: =ROW()-6 -> 82 | B88: SL82716 | C88: Siliconline | D88: TIA/LA 통합형 | E88: 4 | F88: 3.5 Gbps/ch | G88: Bare Die | H88: 1.3 x 0.9 x 0.185mm | I88: 06/15/2011 | K88: OLD OE #1 | L88: 6 | N88: =IF(B88="","",IF(L88<=0,"발주필요",IF(L88<M88,"부족","정상"))) | O88: 연구개발 | Q88: NAS:/[] 연구소/1. 개발/소자_재고관리대장/DIC/SL82716v0_04_02.pdf
A89: =ROW()-6 -> 83 | B89: SL82521-BWE | C89: Siliconline | I89: 07/04/2017 | K89: OLD OE #1 | L89: 10 | N89: =IF(B89="","",IF(L89<=0,"발주필요",IF(L89<M89,"부족","정상"))) | O89: 연구개발
A90: =ROW()-6 -> 84 | B90: SL82511-BWE | C90: Siliconline | I90: 07/04/2017 | K90: OLD OE #1 | L90: 10 | N90: =IF(B90="","",IF(L90<=0,"발주필요",IF(L90<M90,"부족","정상"))) | O90: 연구개발
A91: =ROW()-6 -> 85 | B91: SL82022-BW0 | C91: Siliconline | D91: Driver IC | E91: 1 | F91: 12.5 Gbps/ch | G91: Bare Die | H91: 0.74 x 0.74 x 0.185 mm | I91: 11/29/2016 | K91: OLD OE #1 | L91: 40 | N91: =IF(B91="","",IF(L91<=0,"발주필요",IF(L91<M91,"부족","정상"))) | O91: 연구개발 | Q91: NAS:/[] 연구소/1. 개발/소자_재고관리대장/DIC/SL82022V0_00_03.pdf
A92: =ROW()-6 -> 86 | B92: SL82022-BW0 | C92: Siliconline | D92: Driver IC | E92: 1 | F92: 12.5 Gbps/ch | G92: Bare Die | H92: 0.74 x 0.74 x 0.185 mm | I92: 01/12/2016 | K92: OLD OE #1 | L92: 2 | N92: =IF(B92="","",IF(L92<=0,"발주필요",IF(L92<M92,"부족","정상"))) | O92: 연구개발 | Q92: NAS:/[] 연구소/1. 개발/소자_재고관리대장/DIC/SL82022V0_00_03.pdf
A93: =ROW()-6 -> 87 | B93: SL82022-BW0 | C93: Siliconline | D93: Driver IC | E93: 1 | F93: 12.5 Gbps/ch | G93: Bare Die | H93: 0.74 x 0.74 x 0.185 mm | I93: 03/02/2016 | K93: OLD OE #1 | L93: 2 | N93: =IF(B93="","",IF(L93<=0,"발주필요",IF(L93<M93,"부족","정상"))) | O93: 연구개발 | Q93: NAS:/[] 연구소/1. 개발/소자_재고관리대장/DIC/SL82022V0_00_03.pdf
A94: =ROW()-6 -> 88 | B94: SL82012-BW0 | C94: Siliconline | D94: TIA/LA 통합형 | E94: 1 | F94: 12.5 Gbps/ch | G94: Bare Die | H94: 0.74 x 0.74 x 0.185 mm | I94: 03/02/2016 | K94: OLD OE #1 | L94: 11 | N94: =IF(B94="","",IF(L94<=0,"발주필요",IF(L94<M94,"부족","정상"))) | O94: 연구개발 | Q94: NAS:/[] 연구소/1. 개발/소자_재고관리대장/DIC/SL82012V0_00_03.pdf
A95: =ROW()-6 -> 89 | B95: SL82012-BW0-03N0 | C95: Siliconline | D95: TIA/LA 통합형 | E95: 1 | F95: 12.5 Gbps/ch | G95: Bare Die | H95: 0.74 x 0.74 x 0.185 mm | I95: 11/29/2016 | K95: OLD OE #1 | L95: 40 | N95: =IF(B95="","",IF(L95<=0,"발주필요",IF(L95<M95,"부족","정상"))) | O95: 연구개발 | Q95: NAS:/[] 연구소/1. 개발/소자_재고관리대장/DIC/SL82012V0_00_03.pdf
A96: =ROW()-6 -> 90 | B96: SL82818 | C96: Siliconline | D96: TIA/LA 통합형 | E96: 4 | F96: 3.4 Gbps/ch | G96: Bare Die | H96: 1.3 x 0.9 x 0.185mm | I96: 11/24/2011 | K96: OLD OE #1 | L96: 4 | N96: =IF(B96="","",IF(L96<=0,"발주필요",IF(L96<M96,"부족","정상"))) | O96: 연구개발 | Q96: NAS:/[] 연구소/1. 개발/소자_재고관리대장/DIC/SL82818v0_04_04.pdf
A97: =ROW()-6 -> 91 | B97: SL82828 | C97: Siliconline | D97: Driver IC | E97: 4 | F97: 3.4 Gbps/ch | G97: Bare Die | H97: 1.3 x 0.9 x 0.185mm | I97: 11/24/2011 | K97: OLD OE #1 | L97: 2 | N97: =IF(B97="","",IF(L97<=0,"발주필요",IF(L97<M97,"부족","정상"))) | O97: 연구개발 | Q97: NAS:/[] 연구소/1. 개발/소자_재고관리대장/DIC/SL82828v1_01_00.pdf
A98: =ROW()-6 -> 92 | B98: SL82818 | C98: Siliconline | D98: TIA/LA 통합형 | E98: 4 | F98: 3.4 Gbps/ch | G98: Bare Die | H98: 1.3 x 0.9 x 0.185mm | K98: OLD OE #1 | L98: 10 | N98: =IF(B98="","",IF(L98<=0,"발주필요",IF(L98<M98,"부족","정상"))) | O98: 연구개발 | Q98: NAS:/[] 연구소/1. 개발/소자_재고관리대장/DIC/SL82818v0_04_05.pdf
A99: =ROW()-6 -> 93 | B99: SL82828 | C99: Siliconline | D99: Driver IC | E99: 4 | F99: 3.4 Gbps/ch | G99: Bare Die | H99: 1.3 x 0.9 x 0.185mm | K99: OLD OE #1 | L99: 9 | N99: =IF(B99="","",IF(L99<=0,"발주필요",IF(L99<M99,"부족","정상"))) | O99: 연구개발 | Q99: NAS:/[] 연구소/1. 개발/소자_재고관리대장/DIC/SL82828v1_01_00.pdf
A100: =ROW()-6 -> 94 | B100: SL82827 | C100: Siliconline | K100: OLD OE #1 | L100: 10 | N100: =IF(B100="","",IF(L100<=0,"발주필요",IF(L100<M100,"부족","정상"))) | O100: 연구개발
A101: =ROW()-6 -> 95 | B101: SL82819 | C101: Siliconline | D101: TIA/LA 통합형 | E101: 4 | F101: 6 Gbps/ch | G101: Bare Die | H101: 1.3 x 0.9 x 0.185mm | I101: 01/14/2016 | K101: OLD OE #1 | L101: 10 | N101: =IF(B101="","",IF(L101<=0,"발주필요",IF(L101<M101,"부족","정상"))) | O101: 연구개발 | Q101: NAS:/[] 연구소/1. 개발/소자_재고관리대장/DIC/SL82819v0_00_02 (Updated).pdf
A102: =ROW()-6 -> 96 | B102: SL83115 | C102: Siliconline | D102: Deserializer IC | F102: 4 Gbps | H102: 1.3 x 1.4 mm | I102: 12/06/2013 | K102: OLD OE #1 | L102: 20 | N102: =IF(B102="","",IF(L102<=0,"발주필요",IF(L102<M102,"부족","정상"))) | O102: 연구개발 | Q102: NAS:/[] 연구소/1. 개발/소자_재고관리대장/DIC/SL83115v0_00_04.pdf | S102: VQFN-48 package, CDR O
A103: =ROW()-6 -> 97 | B103: SL83215 | C103: Siliconline | D103: Serializer IC | F103: 4 Gbps | H103: 1.3 x 1.4 mm | I103: 12/06/2013 | K103: OLD OE #1 | L103: 20 | N103: =IF(B103="","",IF(L103<=0,"발주필요",IF(L103<M103,"부족","정상"))) | O103: 연구개발 | Q103: NAS:/[] 연구소/1. 개발/소자_재고관리대장/DIC/SL83215v0_00_04.pdf | S103: VQFN-48 package
...

Sheet 종류별 현황
A1: 소자 종류별 재고 현황
A4: 소자 구분 | B4: 등록 품목 수 | C4: 총 재고 수량 | D4: 부족/발주 품목
A5: Driver IC | B5: =COUNTIF('통합 재고현황'!$D$7:$D$206,A5) -> 1 | C5: =SUMIF('통합 재고현황'!$D$7:$D$206,A5,'통합 재고현황'!$L$7:$L$206) -> 20 | D5: =COUNTIFS('통합 재고현황'!$D$7:$D$206,A5,'통합 재고현황'!$N$7:$N$206,"부족")+COUNTIFS('통합 재고현황'!$D$7:$D$206,A5,'통합 재고현황'!$N$7:$N$206,"발주필요") -> 0
A6: TIA | B6: =COUNTIF('통합 재고현황'!$D$7:$D$206,A6) -> 3 | C6: =SUMIF('통합 재고현황'!$D$7:$D$206,A6,'통합 재고현황'!$L$7:$L$206) -> 65 | D6: =COUNTIFS('통합 재고현황'!$D$7:$D$206,A6,'통합 재고현황'!$N$7:$N$206,"부족")+COUNTIFS('통합 재고현황'!$D$7:$D$206,A6,'통합 재고현황'!$N$7:$N$206,"발주필요") -> 0
A7: LA | B7: =COUNTIF('통합 재고현황'!$D$7:$D$206,A7) -> 0 | C7: =SUMIF('통합 재고현황'!$D$7:$D$206,A7,'통합 재고현황'!$L$7:$L$206) -> 0 | D7: =COUNTIFS('통합 재고현황'!$D$7:$D$206,A7,'통합 재고현황'!$N$7:$N$206,"부족")+COUNTIFS('통합 재고현황'!$D$7:$D$206,A7,'통합 재고현황'!$N$7:$N$206,"발주필요") -> 0
A8: TIA/LA 통합형 | B8: =COUNTIF('통합 재고현황'!$D$7:$D$206,A8) -> 1 | C8: =SUMIF('통합 재고현황'!$D$7:$D$206,A8,'통합 재고현황'!$L$7:$L$206) -> 20 | D8: =COUNTIFS('통합 재고현황'!$D$7:$D$206,A8,'통합 재고현황'!$N$7:$N$206,"부족")+COUNTIFS('통합 재고현황'!$D$7:$D$206,A8,'통합 재고현황'!$N$7:$N$206,"발주필요") -> 0
A9: CDR/Retimer | B9: =COUNTIF('통합 재고현황'!$D$7:$D$206,A9) -> 0 | C9: =SUMIF('통합 재고현황'!$D$7:$D$206,A9,'통합 재고현황'!$L$7:$L$206) -> 0 | D9: =COUNTIFS('통합 재고현황'!$D$7:$D$206,A9,'통합 재고현황'!$N$7:$N$206,"부족")+COUNTIFS('통합 재고현황'!$D$7:$D$206,A9,'통합 재고현황'!$N$7:$N$206,"발주필요") -> 0
A10: MCU / Control IC | B10: =COUNTIF('통합 재고현황'!$D$7:$D$206,A10) -> 0 | C10: =SUMIF('통합 재고현황'!$D$7:$D$206,A10,'통합 재고현황'!$L$7:$L$206) -> 0 | D10: =COUNTIFS('통합 재고현황'!$D$7:$D$206,A10,'통합 재고현황'!$N$7:$N$206,"부족")+COUNTIFS('통합 재고현황'!$D$7:$D$206,A10,'통합 재고현황'!$N$7:$N$206,"발주필요") -> 0
A11: LDO / DC-DC | B11: =COUNTIF('통합 재고현황'!$D$7:$D$206,A11) -> 0 | C11: =SUMIF('통합 재고현황'!$D$7:$D$206,A11,'통합 재고현황'!$L$7:$L$206) -> 0 | D11: =COUNTIFS('통합 재고현황'!$D$7:$D$206,A11,'통합 재고현황'!$N$7:$N$206,"부족")+COUNTIFS('통합 재고현황'!$D$7:$D$206,A11,'통합 재고현황'!$N$7:$N$206,"발주필요") -> 0
A12: VCSEL / LD | B12: =COUNTIF('통합 재고현황'!$D$7:$D$206,A12) -> 26 | C12: =SUMIF('통합 재고현황'!$D$7:$D$206,A12,'통합 재고현황'!$L$7:$L$206) -> 12459 | D12: =COUNTIFS('통합 재고현황'!$D$7:$D$206,A12,'통합 재고현황'!$N$7:$N$206,"부족")+COUNTIFS('통합 재고현황'!$D$7:$D$206,A12,'통합 재고현황'!$N$7:$N$206,"발주필요") -> 0
A13: PIN PD | B13: =COUNTIF('통합 재고현황'!$D$7:$D$206,A13) -> 12 | C13: =SUMIF('통합 재고현황'!$D$7:$D$206,A13,'통합 재고현황'!$L$7:$L$206) -> 3241 | D13: =COUNTIFS('통합 재고현황'!$D$7:$D$206,A13,'통합 재고현황'!$N$7:$N$206,"부족")+COUNTIFS('통합 재고현황'!$D$7:$D$206,A13,'통합 재고현황'!$N$7:$N$206,"발주필요") -> 0
A14: CDR/TIA/LA 통합형 | B14: =COUNTIF('통합 재고현황'!$D$7:$D$206,A14) -> 1 | C14: =SUMIF('통합 재고현황'!$D$7:$D$206,A14,'통합 재고현황'!$L$7:$L$206) -> 20 | D14: =COUNTIFS('통합 재고현황'!$D$7:$D$206,A14,'통합 재고현황'!$N$7:$N$206,"부족")+COUNTIFS('통합 재고현황'!$D$7:$D$206,A14,'통합 재고현황'!$N$7:$N$206,"발주필요") -> 0
A15: Driver IC/LA 통합형 | B15: =COUNTIF('통합 재고현황'!$D$7:$D$206,A15) -> 1 | C15: =SUMIF('통합 재고현황'!$D$7:$D$206,A15,'통합 재고현황'!$L$7:$L$206) -> 20 | D15: =COUNTIFS('통합 재고현황'!$D$7:$D$206,A15,'통합 재고현황'!$N$7:$N$206,"부족")+COUNTIFS('통합 재고현황'!$D$7:$D$206,A15,'통합 재고현황'!$N$7:$N$206,"발주필요") -> 0
A16: Driver IC/CDR 통합형 | B16: =COUNTIF('통합 재고현황'!$D$7:$D$206,A16) -> 1 | C16: =SUMIF('통합 재고현황'!$D$7:$D$206,A16,'통합 재고현황'!$L$7:$L$206) -> 20 | D16: =COUNTIFS('통합 재고현황'!$D$7:$D$206,A16,'통합 재고현황'!$N$7:$N$206,"부족")+COUNTIFS('통합 재고현황'!$D$7:$D$206,A16,'통합 재고현황'!$N$7:$N$206,"발주필요") -> 0
A17: LED | B17: =COUNTIF('통합 재고현황'!$D$7:$D$206,A17) -> 1 | C17: =SUMIF('통합 재고현황'!$D$7:$D$206,A17,'통합 재고현황'!$L$7:$L$206) -> 3 | D17: =COUNTIFS('통합 재고현황'!$D$7:$D$206,A17,'통합 재고현황'!$N$7:$N$206,"부족")+COUNTIFS('통합 재고현황'!$D$7:$D$206,A17,'통합 재고현황'!$N$7:$N$206,"발주필요") -> 0

Sheet 입출고이력
A1: 전자소자 입출고 이력
A2: 입고·출고·반납·폐기·실사조정 시 한 줄씩 기록합니다.
A4: No. | B4: 처리일 | C4: 구분 | D4: 소자 구분 | E4: 품번(Part No.) | F4: 제조사 | G4: 수량 | H4: Lot / Date Code | I4: 보관 위치 | J4: 처리자/사용처/비고
A5: =ROW()-4 -> 1
A6: =ROW()-4 -> 2
A7: =ROW()-4 -> 3
A8: =ROW()-4 -> 4
A9: =ROW()-4 -> 5
A10: =ROW()-4 -> 6
A11: =ROW()-4 -> 7
A12: =ROW()-4 -> 8
A13: =ROW()-4 -> 9
A14: =ROW()-4 -> 10
A15: =ROW()-4 -> 11
A16: =ROW()-4 -> 12
... A204: =ROW()-4 -> 200

Sheet 코드목록
A1: 소자 구분 | B1: 패키지 형태 | C1: 사용 목적 | D1: 보관 박스 | E1: 박스 실제 위치
A2: Driver IC | B2: Bare Die | C2: 연구개발 | D2: OLD OE #1 | E2: 6F 연구실 선반
A3: TIA | B3: BOSA | C3: 시제품 | D3: 4CH Array | E3: 6F 연구실 선반
A4: LA | B4: Array chip | C4: 평가보드 | D4: NEW OE | E4: 6F 연구실 선반
A5: TIA/LA 통합형 | B5: TOSA | C5: 양산 | D5: OLD OE #2 | E5: 6F 연구실 선반
A6: CDR/Retimer | B6: ROSA | C6: 분석/분해 | D6: DIC | E6: 6F 연구실 선반
A7: MCU / Control IC | B7: SOIC | C7: 기타 | D7: 10F 선반
A8: LDO / DC-DC | B8: TO-Can
A9: VCSEL / LD
A10: PIN PD
A11: Driver IC/LA 통합형
A12: Driver IC/CDR 통합형
A13: LED
A14: BOSA
A15: CDR/TIA/LA 통합형
A16: 광 Transceiver IC
A17: Serializer IC
A18: Deserializer IC
A19: MIPI D-PHY Bridge IC
